BEGIN:VCALENDAR
VERSION:2.0
PRODID:-//Central Wyoming College - ECPv6.15.20//NONSGML v1.0//EN
CALSCALE:GREGORIAN
METHOD:PUBLISH
X-WR-CALNAME:Central Wyoming College
X-ORIGINAL-URL:https://www.cwc.edu
X-WR-CALDESC:Events for Central Wyoming College
REFRESH-INTERVAL;VALUE=DURATION:PT1H
X-Robots-Tag:noindex
X-PUBLISHED-TTL:PT1H
BEGIN:VTIMEZONE
TZID:America/Denver
BEGIN:DAYLIGHT
TZOFFSETFROM:-0700
TZOFFSETTO:-0600
TZNAME:MDT
DTSTART:20220313T090000
END:DAYLIGHT
BEGIN:STANDARD
TZOFFSETFROM:-0600
TZOFFSETTO:-0700
TZNAME:MST
DTSTART:20221106T080000
END:STANDARD
BEGIN:DAYLIGHT
TZOFFSETFROM:-0700
TZOFFSETTO:-0600
TZNAME:MDT
DTSTART:20230312T090000
END:DAYLIGHT
BEGIN:STANDARD
TZOFFSETFROM:-0600
TZOFFSETTO:-0700
TZNAME:MST
DTSTART:20231105T080000
END:STANDARD
BEGIN:DAYLIGHT
TZOFFSETFROM:-0700
TZOFFSETTO:-0600
TZNAME:MDT
DTSTART:20240310T090000
END:DAYLIGHT
BEGIN:STANDARD
TZOFFSETFROM:-0600
TZOFFSETTO:-0700
TZNAME:MST
DTSTART:20241103T080000
END:STANDARD
BEGIN:DAYLIGHT
TZOFFSETFROM:-0700
TZOFFSETTO:-0600
TZNAME:MDT
DTSTART:20250309T090000
END:DAYLIGHT
BEGIN:STANDARD
TZOFFSETFROM:-0600
TZOFFSETTO:-0700
TZNAME:MST
DTSTART:20251102T080000
END:STANDARD
BEGIN:DAYLIGHT
TZOFFSETFROM:-0700
TZOFFSETTO:-0600
TZNAME:MDT
DTSTART:20260308T090000
END:DAYLIGHT
BEGIN:STANDARD
TZOFFSETFROM:-0600
TZOFFSETTO:-0700
TZNAME:MST
DTSTART:20261101T080000
END:STANDARD
BEGIN:DAYLIGHT
TZOFFSETFROM:-0700
TZOFFSETTO:-0600
TZNAME:MDT
DTSTART:20270314T090000
END:DAYLIGHT
BEGIN:STANDARD
TZOFFSETFROM:-0600
TZOFFSETTO:-0700
TZNAME:MST
DTSTART:20271107T080000
END:STANDARD
END:VTIMEZONE
BEGIN:VEVENT
DTSTART;VALUE=DATE:20260414
DTEND;VALUE=DATE:20260415
DTSTAMP:20260423T171604
CREATED:20260327T160034Z
LAST-MODIFIED:20260401T211028Z
UID:10001855-1776124800-1776211199@www.cwc.edu
SUMMARY:Advising Day - No Classes
DESCRIPTION:Advising Day at CWCAdvising Day is scheduled for Tuesday\, April 14. No classes will be held to allow students time to meet with their faculty advisors and complete Spring and Summer 2026 registration planning. This day concludes CWC’s Advising Days early registration period\, which provides current students with an opportunity to prepare for the upcoming semester before registration opens to all students on Wednesday\, April 15. \nFor more information or advising assistance\, or to locate a faculty advisor\, contact one of the following campus locations:\nRiverton\, stop by Rustler Central\, call 307-855-2115\, or email rustlercentral@cwc.edu.\nLander\, stop by CWC Lander\, call 307-332-3394\, or email kprimose@cwc.edu.\nJackson\, stop by CWC Jackson\, reach out to Andy (alex@cwc.edu/307-200-6157) or Daniel Lopez-Carrillo (dlopezca@cwc.edu/307-200-6154) \nFall and Summer 2026 Class Schedules are posted online here.
URL:https://www.cwc.edu/event/advising-day-no-classes-2/
LOCATION:All CWC Locations
CATEGORIES:General
ATTACH;FMTTYPE=image/png:https://www.cwc.edu/wp-content/uploads/2026/03/Feature-Event-Imate-19-1.png
END:VEVENT
BEGIN:VEVENT
DTSTART;VALUE=DATE:20251105
DTEND;VALUE=DATE:20251106
DTSTAMP:20260423T171604
CREATED:20251015T143955Z
LAST-MODIFIED:20251015T143955Z
UID:10001786-1762300800-1762387199@www.cwc.edu
SUMMARY:Spring and Summer 2026 Registration Open
DESCRIPTION:Spring and Summer 2026 registration is open to all students!\n \nNeed help?\nIn Riverton\, stop by Rustler Central\, call 307-855-2115\, or email rustlercentral@cwc.edu.\nIn Lander\, stop by CWC Lander\, call 307-332-3394\, or email kprimose@cwc.edu.\nIn Jackson\, stop by CWC Jackson\, reach out to Andy (alex@cwc.edu/307-200-6157) or Daniel Lopez-Carrillo (dlopezca@cwc.edu/307-200-6154)
URL:https://www.cwc.edu/event/spring-and-summer-2026-registration-open/
LOCATION:All CWC Locations
CATEGORIES:General
ATTACH;FMTTYPE=image/jpeg:https://www.cwc.edu/wp-content/uploads/2025/10/Event-Feature-Image-16.jpg
END:VEVENT
BEGIN:VEVENT
DTSTART;VALUE=DATE:20251104
DTEND;VALUE=DATE:20251105
DTSTAMP:20260423T171604
CREATED:20251014T231001Z
LAST-MODIFIED:20251015T144038Z
UID:10001784-1762214400-1762300799@www.cwc.edu
SUMMARY:Advising Day - No Classes
DESCRIPTION:Advising Day at CWCAdvising Day is scheduled for Tuesday\, November 4. No classes will be held to allow students time to meet with their faculty advisors and complete Spring and Summer 2026 registration planning. This day concludes CWC’s Advising Days early registration period\, which provides Fall 2025 students with an opportunity to prepare for the upcoming semester before registration opens to all students on Wednesday\, November 5. \nFor more information or advising assistance\, or to locate a faculty advisor\, contact one of the following campus locations:\nRiverton\, stop by Rustler Central\, call 307-855-2115\, or email rustlercentral@cwc.edu.\nLander\, stop by CWC Lander\, call 307-332-3394\, or email kprimose@cwc.edu.\nJackson\, stop by CWC Jackson\, reach out to Andy (alex@cwc.edu/307-200-6157) or Daniel Lopez-Carrillo (dlopezca@cwc.edu/307-200-6154) \nSpring and Summer 2026 Class Schedules are posted online here.
URL:https://www.cwc.edu/event/advising-day-no-classes/
LOCATION:All CWC Locations
CATEGORIES:General
ATTACH;FMTTYPE=image/jpeg:https://www.cwc.edu/wp-content/uploads/2025/10/Event-Feature-Image-15.jpg
END:VEVENT
BEGIN:VEVENT
DTSTART;VALUE=DATE:20251027
DTEND;VALUE=DATE:20251028
DTSTAMP:20260423T171604
CREATED:20251014T231211Z
LAST-MODIFIED:20251015T145227Z
UID:10001785-1761523200-1761609599@www.cwc.edu
SUMMARY:Early Registration Begins
DESCRIPTION:Early Registration begin today!This early registration opportunity gives current Fall 2025 students a jump start on planning and registering for Spring and Summer 2026 classes. Meet with your faculty advisor early to secure your ideal schedule! Early registration is open for current students until Tuesday\, November 4. \nNeed help?\nIn Riverton\, stop by Rustler Central\, call 307-855-2115\, or email rustlercentral@cwc.edu.\nIn Lander\, stop by CWC Lander\, call 307-332-3394\, or email kprimose@cwc.edu.\nIn Jackson\, stop by CWC Jackson\, reach out to Andy (alex@cwc.edu/307-200-6157) or Daniel Lopez-Carrillo (dlopezca@cwc.edu/307-200-6154) \nSpring and Summer 2026 Class Schedules are posted online here.
URL:https://www.cwc.edu/event/early-registration-begins/
LOCATION:All CWC Locations
CATEGORIES:General
ATTACH;FMTTYPE=image/jpeg:https://www.cwc.edu/wp-content/uploads/2025/10/Event-Feature-Image-15.jpg
END:VEVENT
BEGIN:VEVENT
DTSTART;VALUE=DATE:20250704
DTEND;VALUE=DATE:20250705
DTSTAMP:20260423T171604
CREATED:20250527T200733Z
LAST-MODIFIED:20251117T152751Z
UID:10001737-1751587200-1751673599@www.cwc.edu
SUMMARY:All Campuses Closed
DESCRIPTION:All CWC campuses will be closed on the 4th of July. Happy Independence Day!
URL:https://www.cwc.edu/event/campus-closed-20250704/
LOCATION:All CWC Locations
CATEGORIES:General
ATTACH;FMTTYPE=image/png:https://www.cwc.edu/wp-content/uploads/2025/05/happy-independence-day-2025-1200-x-676-px.png
END:VEVENT
BEGIN:VEVENT
DTSTART;VALUE=DATE:20250113
DTEND;VALUE=DATE:20250114
DTSTAMP:20260423T171604
CREATED:20241206T203652Z
LAST-MODIFIED:20250416T161053Z
UID:10001678-1736726400-1736812799@www.cwc.edu
SUMMARY:All Campuses Closed
DESCRIPTION:All campuses are closed for Spring In-Service Day
URL:https://www.cwc.edu/event/all-campuses-closed-20250113/
LOCATION:All CWC Locations
CATEGORIES:General
ATTACH;FMTTYPE=image/png:https://www.cwc.edu/wp-content/uploads/2024/12/Spring-In-Service-2025-600-x-338-px.png
END:VEVENT
BEGIN:VEVENT
DTSTART;VALUE=DATE:20241221
DTEND;VALUE=DATE:20250102
DTSTAMP:20260423T171604
CREATED:20241113T211116Z
LAST-MODIFIED:20241113T211116Z
UID:10001668-1734739200-1735775999@www.cwc.edu
SUMMARY:Winter Holidays
DESCRIPTION:All campuses closed for the Winter Holidays.
URL:https://www.cwc.edu/event/winter-holidays/
LOCATION:All CWC Locations
CATEGORIES:Arts Center,General
ATTACH;FMTTYPE=image/png:https://www.cwc.edu/wp-content/uploads/2024/11/Winter-Holidays-2024-banner-600-x-338-px.png
END:VEVENT
BEGIN:VEVENT
DTSTART;VALUE=DATE:20241127
DTEND;VALUE=DATE:20241202
DTSTAMP:20260423T171604
CREATED:20241113T205321Z
LAST-MODIFIED:20241113T205321Z
UID:10001667-1732665600-1733097599@www.cwc.edu
SUMMARY:Thanksgiving Break
DESCRIPTION:All campuses closed for Thanksgiving.
URL:https://www.cwc.edu/event/thanksgiving-break/
LOCATION:All CWC Locations
CATEGORIES:Arts Center,General
ATTACH;FMTTYPE=image/png:https://www.cwc.edu/wp-content/uploads/2024/11/Thanksgiving-2024-banner-600x338px.png
END:VEVENT
BEGIN:VEVENT
DTSTART;VALUE=DATE:20240902
DTEND;VALUE=DATE:20240903
DTSTAMP:20260423T171604
CREATED:20240808T160832Z
LAST-MODIFIED:20240822T141623Z
UID:10000508-1725235200-1725321599@www.cwc.edu
SUMMARY:All Campuses Closed
DESCRIPTION:All Central Wyoming College campuses and offices will be closed on Monday\, September 2\, 2024 for Labor Day.
URL:https://www.cwc.edu/event/all-campuses-closed-20240902/
LOCATION:All CWC Locations
CATEGORIES:General
ATTACH;FMTTYPE=image/png:https://www.cwc.edu/wp-content/uploads/2024/08/Labor-Day-600x338px.png
END:VEVENT
BEGIN:VEVENT
DTSTART;VALUE=DATE:20240826
DTEND;VALUE=DATE:20240827
DTSTAMP:20260423T171604
CREATED:20240808T195736Z
LAST-MODIFIED:20240808T195736Z
UID:10000509-1724630400-1724716799@www.cwc.edu
SUMMARY:Fall 2024 Classes Begin
DESCRIPTION:
URL:https://www.cwc.edu/event/fall-2024-classes-begin/
LOCATION:All CWC Locations
CATEGORIES:General
ATTACH;FMTTYPE=image/png:https://www.cwc.edu/wp-content/uploads/2024/08/fall-2024-classes-begin.png
END:VEVENT
BEGIN:VEVENT
DTSTART;VALUE=DATE:20240823
DTEND;VALUE=DATE:20240824
DTSTAMP:20260423T171604
CREATED:20240814T223541Z
LAST-MODIFIED:20240826T191539Z
UID:10000512-1724371200-1724457599@www.cwc.edu
SUMMARY:Fall Registration Deadline
DESCRIPTION:Apply today! www.cwc.edu/apply
URL:https://www.cwc.edu/event/fall-registration-deadline/
LOCATION:All CWC Locations
CATEGORIES:General
ATTACH;FMTTYPE=image/png:https://www.cwc.edu/wp-content/uploads/2024/08/Fall-Registration-deadline-2024.png
END:VEVENT
BEGIN:VEVENT
DTSTART;TZID=America/Denver:20240819T080000
DTEND;TZID=America/Denver:20240819T130000
DTSTAMP:20260423T171604
CREATED:20240808T155251Z
LAST-MODIFIED:20240822T141543Z
UID:10000507-1724054400-1724072400@www.cwc.edu
SUMMARY:All Campuses Closed
DESCRIPTION:All Central Wyoming College campuses and offices will be closed for Fall In-Service Day on Monday\, August 19\, 2024 from 8 a.m. – 1 p.m.
URL:https://www.cwc.edu/event/all-campuses-closed-20240819/
LOCATION:All CWC Locations
CATEGORIES:General
ATTACH;FMTTYPE=image/png:https://www.cwc.edu/wp-content/uploads/2024/08/Fall-InService-600x338px.png
END:VEVENT
BEGIN:VEVENT
DTSTART;VALUE=DATE:20240527
DTEND;VALUE=DATE:20240528
DTSTAMP:20260423T171604
CREATED:20240215T015255Z
LAST-MODIFIED:20240523T125742Z
UID:10000424-1716768000-1716854399@www.cwc.edu
SUMMARY:All Campuses Closed
DESCRIPTION:All campuses closed in observance of Memorial Day
URL:https://www.cwc.edu/event/campus-closed-memorialday2024/
LOCATION:All CWC Locations
CATEGORIES:General
ATTACH;FMTTYPE=image/png:https://www.cwc.edu/wp-content/uploads/2024/02/Closed-for-Memorial-Day-2024-600-x-338-px.png
END:VEVENT
BEGIN:VEVENT
DTSTART;VALUE=DATE:20240329
DTEND;VALUE=DATE:20240330
DTSTAMP:20260423T171604
CREATED:20240215T014102Z
LAST-MODIFIED:20240523T125848Z
UID:10000423-1711670400-1711756799@www.cwc.edu
SUMMARY:All Campuses Closed
DESCRIPTION:All campuses closed for Easter
URL:https://www.cwc.edu/event/campus-closed-easter2024/
LOCATION:All CWC Locations
CATEGORIES:General
ATTACH;FMTTYPE=image/png:https://www.cwc.edu/wp-content/uploads/2024/02/All-CAMPUSES-CLOSED-Easter-600-x-338-px.png
END:VEVENT
BEGIN:VEVENT
DTSTART;VALUE=DATE:20240308
DTEND;VALUE=DATE:20240309
DTSTAMP:20260423T171604
CREATED:20240215T013024Z
LAST-MODIFIED:20240523T130105Z
UID:10000422-1709856000-1709942399@www.cwc.edu
SUMMARY:All Campuses Closed
DESCRIPTION:All Campuses closed for Spring Holiday
URL:https://www.cwc.edu/event/closed-spring-holiday2024/
LOCATION:All CWC Locations
CATEGORIES:General
ATTACH;FMTTYPE=image/png:https://www.cwc.edu/wp-content/uploads/2024/02/closed-for-spring-holiday-600-x-338-px.png
END:VEVENT
BEGIN:VEVENT
DTSTART;VALUE=DATE:20240219
DTEND;VALUE=DATE:20240220
DTSTAMP:20260423T171604
CREATED:20240212T225716Z
LAST-MODIFIED:20240523T130014Z
UID:10000421-1708300800-1708387199@www.cwc.edu
SUMMARY:All Campuses Closed
DESCRIPTION:All Campuses closed in observance of Presidents’ Day
URL:https://www.cwc.edu/event/campus-closed/
LOCATION:All CWC Locations
CATEGORIES:General
ATTACH;FMTTYPE=image/png:https://www.cwc.edu/wp-content/uploads/2024/02/Campus-Closed-Presidents-Day-600-x-338-px.png
END:VEVENT
BEGIN:VEVENT
DTSTART;TZID=America/Denver:20231222T010000
DTEND;TZID=America/Denver:20240101T100000
DTSTAMP:20260423T171604
CREATED:20240111T155232Z
LAST-MODIFIED:20240111T155232Z
UID:10000007-1703206800-1704103200@www.cwc.edu
SUMMARY:Semester Break (College Closed)
DESCRIPTION:The college will be closed from December 22 – January 1 for the semester break.
URL:https://www.cwc.edu/event/semester-break-college-closed/
LOCATION:All CWC Locations
CATEGORIES:Arts Center
ATTACH;FMTTYPE=image/jpeg:https://www.cwc.edu/wp-content/uploads/2023/10/Campus-closed-scaled.jpg
END:VEVENT
END:VCALENDAR