BEGIN:VCALENDAR
VERSION:2.0
PRODID:-//Central Wyoming College - ECPv6.15.20//NONSGML v1.0//EN
CALSCALE:GREGORIAN
METHOD:PUBLISH
X-ORIGINAL-URL:https://www.cwc.edu
X-WR-CALDESC:Events for Central Wyoming College
REFRESH-INTERVAL;VALUE=DURATION:PT1H
X-Robots-Tag:noindex
X-PUBLISHED-TTL:PT1H
BEGIN:VTIMEZONE
TZID:America/Denver
BEGIN:DAYLIGHT
TZOFFSETFROM:-0700
TZOFFSETTO:-0600
TZNAME:MDT
DTSTART:20230312T090000
END:DAYLIGHT
BEGIN:STANDARD
TZOFFSETFROM:-0600
TZOFFSETTO:-0700
TZNAME:MST
DTSTART:20231105T080000
END:STANDARD
BEGIN:DAYLIGHT
TZOFFSETFROM:-0700
TZOFFSETTO:-0600
TZNAME:MDT
DTSTART:20240310T090000
END:DAYLIGHT
BEGIN:STANDARD
TZOFFSETFROM:-0600
TZOFFSETTO:-0700
TZNAME:MST
DTSTART:20241103T080000
END:STANDARD
BEGIN:DAYLIGHT
TZOFFSETFROM:-0700
TZOFFSETTO:-0600
TZNAME:MDT
DTSTART:20250309T090000
END:DAYLIGHT
BEGIN:STANDARD
TZOFFSETFROM:-0600
TZOFFSETTO:-0700
TZNAME:MST
DTSTART:20251102T080000
END:STANDARD
END:VTIMEZONE
BEGIN:VEVENT
DTSTART;TZID=America/Denver:20240827T180000
DTEND;TZID=America/Denver:20240827T193000
DTSTAMP:20260421T162426
CREATED:20240726T164233Z
LAST-MODIFIED:20240812T212417Z
UID:10000505-1724781600-1724787000@www.cwc.edu
SUMMARY:Teton Talks
DESCRIPTION:Join Central Wyoming College for TETON TALKS – COMMUNITY CONVERSATIONS WITH TETON LEADERSHIP CENTER \nReframing Capitalism & Impact Investing \nThe Teton Leadership Center is set to host an enlightening community conversation about the unparalleled potential for the private sector\, driven by the innovative spirit of capitalism\, to address the complex challenges of our era. The event will explore how conscious leadership and stakeholder-centric principles are a powerful force for positive change that often surpasses traditional governmental or non-profit approaches. \nSpeakers:\nFred Keller\, Founder of Cascade Engineering\nRob Kellogg\, Executive Director of Silicon Couloir \n 
URL:https://www.cwc.edu/event/teton-talks-20240827/
LOCATION:Teton County Library\, Ordway Auditorium\, 125 Virginian Lane\, Jackson\, WY\, 83002\, United States
CATEGORIES:General
ATTACH;FMTTYPE=image/png:https://www.cwc.edu/wp-content/uploads/2024/07/Teton-Talks-08.27.2024-600x338px.png
END:VEVENT
END:VCALENDAR