BEGIN:VCALENDAR
VERSION:2.0
PRODID:-//Central Wyoming College - ECPv6.15.20//NONSGML v1.0//EN
CALSCALE:GREGORIAN
METHOD:PUBLISH
X-WR-CALNAME:Central Wyoming College
X-ORIGINAL-URL:https://www.cwc.edu
X-WR-CALDESC:Events for Central Wyoming College
REFRESH-INTERVAL;VALUE=DURATION:PT1H
X-Robots-Tag:noindex
X-PUBLISHED-TTL:PT1H
BEGIN:VTIMEZONE
TZID:America/Denver
BEGIN:DAYLIGHT
TZOFFSETFROM:-0700
TZOFFSETTO:-0600
TZNAME:MDT
DTSTART:20250309T090000
END:DAYLIGHT
BEGIN:STANDARD
TZOFFSETFROM:-0600
TZOFFSETTO:-0700
TZNAME:MST
DTSTART:20251102T080000
END:STANDARD
BEGIN:DAYLIGHT
TZOFFSETFROM:-0700
TZOFFSETTO:-0600
TZNAME:MDT
DTSTART:20260308T090000
END:DAYLIGHT
BEGIN:STANDARD
TZOFFSETFROM:-0600
TZOFFSETTO:-0700
TZNAME:MST
DTSTART:20261101T080000
END:STANDARD
BEGIN:DAYLIGHT
TZOFFSETFROM:-0700
TZOFFSETTO:-0600
TZNAME:MDT
DTSTART:20270314T090000
END:DAYLIGHT
BEGIN:STANDARD
TZOFFSETFROM:-0600
TZOFFSETTO:-0700
TZNAME:MST
DTSTART:20271107T080000
END:STANDARD
END:VTIMEZONE
BEGIN:VEVENT
DTSTART;TZID=America/Denver:20260129T090000
DTEND;TZID=America/Denver:20260129T150000
DTSTAMP:20260420T181631
CREATED:20260109T172455Z
LAST-MODIFIED:20260126T180303Z
UID:10001813-1769677200-1769698800@www.cwc.edu
SUMMARY:Customer Service & Workplace Readiness Workshop
DESCRIPTION:Join the Recompete Program for a two-day Customer Service & Workplace Readiness Workshop focused on building essential skills for today’s workforce. Participants will explore customer service best practices\, workplace expectations\, professional communication\, and job readiness strategies. \nA special presentation by Wyoming Workforce Services will take place on January 29 from 2–3 p.m.\, highlighting employment resources and workforce support programs. \nLunch will be provided both days by the Eastern Shoshone 477 Program. \nThis workshop is open to community members interested in strengthening workplace skills and preparing for employment opportunities. \nRegister here or contact Jerri Prejean at 307-855-2346 or jprejean@cwc.edu for more information
URL:https://www.cwc.edu/event/customer-service-workplace-readiness-workshop-2/
LOCATION:WY
CATEGORIES:General
ATTACH;FMTTYPE=image/png:https://www.cwc.edu/wp-content/uploads/2026/01/Event-Feature-Image-10.png
END:VEVENT
END:VCALENDAR