BEGIN:VCALENDAR
VERSION:2.0
PRODID:-//Central Wyoming College - ECPv6.15.20//NONSGML v1.0//EN
CALSCALE:GREGORIAN
METHOD:PUBLISH
X-WR-CALNAME:Central Wyoming College
X-ORIGINAL-URL:https://www.cwc.edu
X-WR-CALDESC:Events for Central Wyoming College
REFRESH-INTERVAL;VALUE=DURATION:PT1H
X-Robots-Tag:noindex
X-PUBLISHED-TTL:PT1H
BEGIN:VTIMEZONE
TZID:America/Denver
BEGIN:DAYLIGHT
TZOFFSETFROM:-0700
TZOFFSETTO:-0600
TZNAME:MDT
DTSTART:20250309T090000
END:DAYLIGHT
BEGIN:STANDARD
TZOFFSETFROM:-0600
TZOFFSETTO:-0700
TZNAME:MST
DTSTART:20251102T080000
END:STANDARD
BEGIN:DAYLIGHT
TZOFFSETFROM:-0700
TZOFFSETTO:-0600
TZNAME:MDT
DTSTART:20260308T090000
END:DAYLIGHT
BEGIN:STANDARD
TZOFFSETFROM:-0600
TZOFFSETTO:-0700
TZNAME:MST
DTSTART:20261101T080000
END:STANDARD
BEGIN:DAYLIGHT
TZOFFSETFROM:-0700
TZOFFSETTO:-0600
TZNAME:MDT
DTSTART:20270314T090000
END:DAYLIGHT
BEGIN:STANDARD
TZOFFSETFROM:-0600
TZOFFSETTO:-0700
TZNAME:MST
DTSTART:20271107T080000
END:STANDARD
END:VTIMEZONE
BEGIN:VEVENT
DTSTART;TZID=America/Denver:20260421T190000
DTEND;TZID=America/Denver:20260421T210000
DTSTAMP:20260421T183231
CREATED:20250922T182034Z
LAST-MODIFIED:20260324T225800Z
UID:10001777-1776798000-1776805200@www.cwc.edu
SUMMARY:Spring Choral Showcase 
DESCRIPTION:Spring Choral Showcase\nTuesday\, April 21st at 7 PM\n\nRobert A Peck Arts Center Theatre\nFree Admission\nFeaturing the CWC Collegiate Chorale and Handbell Choir
URL:https://www.cwc.edu/event/spring-choral-showcase/
LOCATION:Robert A. Peck Arts Center Theatre
CATEGORIES:Arts Center,General,Music
ATTACH;FMTTYPE=image/jpeg:https://www.cwc.edu/wp-content/uploads/2025/09/Spring-Choral.jpg
END:VEVENT
BEGIN:VEVENT
DTSTART;VALUE=DATE:20260423
DTEND;VALUE=DATE:20260425
DTSTAMP:20260421T183231
CREATED:20250825T194904Z
LAST-MODIFIED:20260419T170000Z
UID:10001758-1776902400-1777075199@www.cwc.edu
SUMMARY:Central Wyoming Innovation and Entrepreneurship Conference
DESCRIPTION:Join us for the second annual CWIE Conference\, bringing together leaders\, educators\, entrepreneurs\, and organizations from across Wyoming and beyond to share resources\, build connections\, and collaborate on advancing economic development and innovation. \nOur goal is to strengthen the ecosystem supporting entrepreneurship\, small business development\, and workforce growth—especially within Career & Technical Education (CTE). Many CTE students will go on to work in or lead small businesses\, particularly in the trades\, which are vital to our economy. This conference highlights pathways\, tools\, and partnerships that empower the next generation of business owners and skilled professionals. \nThis year’s conference features keynote speakers with diverse expertise in business\, entrepreneurship\, leadership\, and innovation\, along with breakout sessions led by state partners and organizations covering relevant programs\, projects\, and opportunities. \nFeatured Speakers:\nDaymond John (FUBU Founder\, Shark Tank Investor)\nKristen Hadeed (Entrepreneur & Leadership Expert)\nGary Schoeniger (Entrepreneurial Mindset Education Leader)\nSean Sherman (The Sioux Chef\, Restaurateur & Author) \nSpecial Event:\nLive concert featuring headliner Jason Pritchett\, with opening guest Jena Spriggs \nLearn more: www.cwc.edu/cwie \nRegister here
URL:https://www.cwc.edu/event/central-wyoming-innovation-and-entrepreneruship-conference/
LOCATION:CWC Riverton\, 2660 Peck Ave\, Riverton\, WY\, 82501\, United States
CATEGORIES:General
ATTACH;FMTTYPE=image/jpeg:https://www.cwc.edu/wp-content/uploads/2025/11/Event-Feature-Image-30.jpg
END:VEVENT
BEGIN:VEVENT
DTSTART;TZID=America/Denver:20260424T113000
DTEND;TZID=America/Denver:20260424T160000
DTSTAMP:20260421T183231
CREATED:20260319T181240Z
LAST-MODIFIED:20260415T153102Z
UID:10001843-1777030200-1777046400@www.cwc.edu
SUMMARY:Central Wyoming Innovation and Entrepreneurship Conference Native Art Market
DESCRIPTION:Native Art MarketWhere Tradition Meets Innovation \nHeld in conjunction with theCentral Wyoming College Innovation & Entrepreneurship Conference \nJoin us for a vibrant showcase of Indigenous artistry\, entrepreneurship\, and cultural storytelling through art and design. Discover original works by Native artists that reflect both tradition and innovation. \nFriday\, April 24\, 202611:30 AM – 4:00 PMITECC \nExplore handcrafted art\, contemporary designs\, and meaningful cultural expression – while connecting directly with Native artists and makers. \nVendor applications available online here and on campus at ITECC. \nFor more information\, contact Al Hubbard at 307-855-2142 or ahubbard@cwc.edu
URL:https://www.cwc.edu/event/central-wyoming-innovation-and-entrepreneurship-conference-native-art-market/
LOCATION:CWC Intertribal Education and Community Center\, 2660 Peck Avenue\, Riverton\, WY\, 82501\, United States
CATEGORIES:General
ATTACH;FMTTYPE=image/png:https://www.cwc.edu/wp-content/uploads/2026/03/Feature-Event-Imate-16.png
END:VEVENT
BEGIN:VEVENT
DTSTART;TZID=America/Denver:20260501T190000
DTEND;TZID=America/Denver:20260501T210000
DTSTAMP:20260421T183231
CREATED:20250922T192506Z
LAST-MODIFIED:20260324T225742Z
UID:10001778-1777662000-1777669200@www.cwc.edu
SUMMARY:Spring Bands Showcase
DESCRIPTION:Spring Bands Showcase\nFriday\, May 1st at 7 PM\n\n\nRobert A Peck Arts Center Theatre\nFree Admission\n\nFeaturing the College Band and Time’s a Wastin’ Jazz Ensemble
URL:https://www.cwc.edu/event/spring-bands-showcase/
LOCATION:Robert A. Peck Arts Center Theatre
CATEGORIES:Arts Center,General,Music
ATTACH;FMTTYPE=image/jpeg:https://www.cwc.edu/wp-content/uploads/2025/09/Spring-Band.jpg
END:VEVENT
BEGIN:VEVENT
DTSTART;TZID=America/Denver:20260519T080000
DTEND;TZID=America/Denver:20260519T170000
DTSTAMP:20260421T183231
CREATED:20260312T202037Z
LAST-MODIFIED:20260318T183657Z
UID:10001841-1779177600-1779210000@www.cwc.edu
SUMMARY:High School Welding Competition
DESCRIPTION:Central Wyoming College will host its first High School Welding Competition in the CWC Welding Shop. This one-day event is designed to bring together high school welding students of all experience levels for a fun and friendly skills competition. \nStudents will compete in three skill levels: beginner\, intermediate\, and advanced\, with welding challenges designed to match their experience. An oxy/fuel cutting competition will also take place. \nPrizes will be awarded for each competition level. \nThis event provides students an opportunity to test their skills\, experience the CWC welding program\, and explore career pathways in welding and the skilled trades. \nFree registration is open here \nIf you have questions or need additional information\, contact Matt Dripps at 307-855-2089 or mdripps@cwc.edu
URL:https://www.cwc.edu/event/high-school-welding-competition/
LOCATION:CWC Professional Technical Center\, 2660 Peck Avenue\, Riverton\, WY\, 82501\, United States
CATEGORIES:General
ATTACH;FMTTYPE=image/jpeg:https://www.cwc.edu/wp-content/uploads/2026/03/Feature-Event-Imate-6.jpg
END:VEVENT
END:VCALENDAR