BEGIN:VCALENDAR
VERSION:2.0
PRODID:-//Central Wyoming College - ECPv6.15.20//NONSGML v1.0//EN
CALSCALE:GREGORIAN
METHOD:PUBLISH
X-WR-CALNAME:Central Wyoming College
X-ORIGINAL-URL:https://www.cwc.edu
X-WR-CALDESC:Events for Central Wyoming College
REFRESH-INTERVAL;VALUE=DURATION:PT1H
X-Robots-Tag:noindex
X-PUBLISHED-TTL:PT1H
BEGIN:VTIMEZONE
TZID:America/Denver
BEGIN:DAYLIGHT
TZOFFSETFROM:-0700
TZOFFSETTO:-0600
TZNAME:MDT
DTSTART:20250309T090000
END:DAYLIGHT
BEGIN:STANDARD
TZOFFSETFROM:-0600
TZOFFSETTO:-0700
TZNAME:MST
DTSTART:20251102T080000
END:STANDARD
BEGIN:DAYLIGHT
TZOFFSETFROM:-0700
TZOFFSETTO:-0600
TZNAME:MDT
DTSTART:20260308T090000
END:DAYLIGHT
BEGIN:STANDARD
TZOFFSETFROM:-0600
TZOFFSETTO:-0700
TZNAME:MST
DTSTART:20261101T080000
END:STANDARD
BEGIN:DAYLIGHT
TZOFFSETFROM:-0700
TZOFFSETTO:-0600
TZNAME:MDT
DTSTART:20270314T090000
END:DAYLIGHT
BEGIN:STANDARD
TZOFFSETFROM:-0600
TZOFFSETTO:-0700
TZNAME:MST
DTSTART:20271107T080000
END:STANDARD
END:VTIMEZONE
BEGIN:VEVENT
DTSTART;TZID=America/Denver:20260501T190000
DTEND;TZID=America/Denver:20260501T210000
DTSTAMP:20260422T080745
CREATED:20250922T192506Z
LAST-MODIFIED:20260324T225742Z
UID:10001778-1777662000-1777669200@www.cwc.edu
SUMMARY:Spring Bands Showcase
DESCRIPTION:Spring Bands Showcase\nFriday\, May 1st at 7 PM\n\n\nRobert A Peck Arts Center Theatre\nFree Admission\n\nFeaturing the College Band and Time’s a Wastin’ Jazz Ensemble
URL:https://www.cwc.edu/event/spring-bands-showcase/
LOCATION:Robert A. Peck Arts Center Theatre
CATEGORIES:Arts Center,General,Music
ATTACH;FMTTYPE=image/jpeg:https://www.cwc.edu/wp-content/uploads/2025/09/Spring-Band.jpg
END:VEVENT
BEGIN:VEVENT
DTSTART;TZID=America/Denver:20260519T080000
DTEND;TZID=America/Denver:20260519T170000
DTSTAMP:20260422T080745
CREATED:20260312T202037Z
LAST-MODIFIED:20260318T183657Z
UID:10001841-1779177600-1779210000@www.cwc.edu
SUMMARY:High School Welding Competition
DESCRIPTION:Central Wyoming College will host its first High School Welding Competition in the CWC Welding Shop. This one-day event is designed to bring together high school welding students of all experience levels for a fun and friendly skills competition. \nStudents will compete in three skill levels: beginner\, intermediate\, and advanced\, with welding challenges designed to match their experience. An oxy/fuel cutting competition will also take place. \nPrizes will be awarded for each competition level. \nThis event provides students an opportunity to test their skills\, experience the CWC welding program\, and explore career pathways in welding and the skilled trades. \nFree registration is open here \nIf you have questions or need additional information\, contact Matt Dripps at 307-855-2089 or mdripps@cwc.edu
URL:https://www.cwc.edu/event/high-school-welding-competition/
LOCATION:CWC Professional Technical Center\, 2660 Peck Avenue\, Riverton\, WY\, 82501\, United States
CATEGORIES:General
ATTACH;FMTTYPE=image/jpeg:https://www.cwc.edu/wp-content/uploads/2026/03/Feature-Event-Imate-6.jpg
END:VEVENT
END:VCALENDAR