BEGIN:VCALENDAR
VERSION:2.0
PRODID:-//Central Wyoming College - ECPv6.15.20//NONSGML v1.0//EN
CALSCALE:GREGORIAN
METHOD:PUBLISH
X-ORIGINAL-URL:https://www.cwc.edu
X-WR-CALDESC:Events for Central Wyoming College
REFRESH-INTERVAL;VALUE=DURATION:PT1H
X-Robots-Tag:noindex
X-PUBLISHED-TTL:PT1H
BEGIN:VTIMEZONE
TZID:America/Denver
BEGIN:DAYLIGHT
TZOFFSETFROM:-0700
TZOFFSETTO:-0600
TZNAME:MDT
DTSTART:20240310T090000
END:DAYLIGHT
BEGIN:STANDARD
TZOFFSETFROM:-0600
TZOFFSETTO:-0700
TZNAME:MST
DTSTART:20241103T080000
END:STANDARD
BEGIN:DAYLIGHT
TZOFFSETFROM:-0700
TZOFFSETTO:-0600
TZNAME:MDT
DTSTART:20250309T090000
END:DAYLIGHT
BEGIN:STANDARD
TZOFFSETFROM:-0600
TZOFFSETTO:-0700
TZNAME:MST
DTSTART:20251102T080000
END:STANDARD
BEGIN:DAYLIGHT
TZOFFSETFROM:-0700
TZOFFSETTO:-0600
TZNAME:MDT
DTSTART:20260308T090000
END:DAYLIGHT
BEGIN:STANDARD
TZOFFSETFROM:-0600
TZOFFSETTO:-0700
TZNAME:MST
DTSTART:20261101T080000
END:STANDARD
END:VTIMEZONE
BEGIN:VEVENT
DTSTART;TZID=America/Denver:20250930T180000
DTEND;TZID=America/Denver:20250930T190000
DTSTAMP:20260423T005647
CREATED:20250912T222600Z
LAST-MODIFIED:20250930T222611Z
UID:10001771-1759255200-1759258800@www.cwc.edu
SUMMARY:Engaging with your Local Business Ecosystem
DESCRIPTION:Bootstrap Event: Engaging with your Local Business Ecosystem\n\n\nJoin us for an interactive session exploring how to connect\, collaborate\, and thrive within your local business ecosystem. Discover resources\, partnerships\, and opportunities to help your ideas and ventures grow.\n\n\nDate: Tuesday\, September 30th\nWho: Small Businesses and Ecosystem Partners\nTime: 6-7pm\nWhere: Brunton Building and online\nZoom Link: cwc-edu.zoom.us/j/98057949599
URL:https://www.cwc.edu/event/bootstrap-event-engaging-with-your-local-business-ecosystem/
LOCATION:Brunton Building\, 255 Brunton Crt\, Riverton\, WY\, 82501\, United States
CATEGORIES:General
ATTACH;FMTTYPE=image/jpeg:https://www.cwc.edu/wp-content/uploads/2025/09/Bootstrap-Business-Ecosystem.jpg
END:VEVENT
END:VCALENDAR