BEGIN:VCALENDAR
VERSION:2.0
PRODID:-//Central Wyoming College - ECPv6.15.20//NONSGML v1.0//EN
CALSCALE:GREGORIAN
METHOD:PUBLISH
X-WR-CALNAME:Central Wyoming College
X-ORIGINAL-URL:https://www.cwc.edu
X-WR-CALDESC:Events for Central Wyoming College
REFRESH-INTERVAL;VALUE=DURATION:PT1H
X-Robots-Tag:noindex
X-PUBLISHED-TTL:PT1H
BEGIN:VTIMEZONE
TZID:America/Denver
BEGIN:DAYLIGHT
TZOFFSETFROM:-0700
TZOFFSETTO:-0600
TZNAME:MDT
DTSTART:20230312T090000
END:DAYLIGHT
BEGIN:STANDARD
TZOFFSETFROM:-0600
TZOFFSETTO:-0700
TZNAME:MST
DTSTART:20231105T080000
END:STANDARD
BEGIN:DAYLIGHT
TZOFFSETFROM:-0700
TZOFFSETTO:-0600
TZNAME:MDT
DTSTART:20240310T090000
END:DAYLIGHT
BEGIN:STANDARD
TZOFFSETFROM:-0600
TZOFFSETTO:-0700
TZNAME:MST
DTSTART:20241103T080000
END:STANDARD
BEGIN:DAYLIGHT
TZOFFSETFROM:-0700
TZOFFSETTO:-0600
TZNAME:MDT
DTSTART:20250309T090000
END:DAYLIGHT
BEGIN:STANDARD
TZOFFSETFROM:-0600
TZOFFSETTO:-0700
TZNAME:MST
DTSTART:20251102T080000
END:STANDARD
END:VTIMEZONE
BEGIN:VEVENT
DTSTART;TZID=America/Denver:20240725T120000
DTEND;TZID=America/Denver:20240725T130000
DTSTAMP:20260423T152436
CREATED:20240716T174922Z
LAST-MODIFIED:20240716T174949Z
UID:10000503-1721908800-1721912400@www.cwc.edu
SUMMARY:Innovation Today
DESCRIPTION:The Bootstrap Collaborative presents Innovation Today with speaker\, Skyler Bang. \nPromoting the importance of an innovative mindset and how to promote it in the workplace. Discussing themes from the book by Robert B. Tucker: Innovation is Everybody’s Business. \nFree copies of the book will be available at the event!
URL:https://www.cwc.edu/event/innovation-today-20240725/
LOCATION:Brunton Building\, 255 Brunton Crt\, Riverton\, WY\, 82501\, United States
CATEGORIES:Bootstrap Collaborative,General
ATTACH;FMTTYPE=image/png:https://www.cwc.edu/wp-content/uploads/2024/07/Innovation-Event-600-x-338-px.png
END:VEVENT
END:VCALENDAR