BEGIN:VCALENDAR
VERSION:2.0
PRODID:-//Central Wyoming College - ECPv6.15.17.1//NONSGML v1.0//EN
CALSCALE:GREGORIAN
METHOD:PUBLISH
X-ORIGINAL-URL:https://www.cwc.edu
X-WR-CALDESC:Events for Central Wyoming College
REFRESH-INTERVAL;VALUE=DURATION:PT1H
X-Robots-Tag:noindex
X-PUBLISHED-TTL:PT1H
BEGIN:VTIMEZONE
TZID:America/Denver
BEGIN:DAYLIGHT
TZOFFSETFROM:-0700
TZOFFSETTO:-0600
TZNAME:MDT
DTSTART:20230312T090000
END:DAYLIGHT
BEGIN:STANDARD
TZOFFSETFROM:-0600
TZOFFSETTO:-0700
TZNAME:MST
DTSTART:20231105T080000
END:STANDARD
BEGIN:DAYLIGHT
TZOFFSETFROM:-0700
TZOFFSETTO:-0600
TZNAME:MDT
DTSTART:20240310T090000
END:DAYLIGHT
BEGIN:STANDARD
TZOFFSETFROM:-0600
TZOFFSETTO:-0700
TZNAME:MST
DTSTART:20241103T080000
END:STANDARD
BEGIN:DAYLIGHT
TZOFFSETFROM:-0700
TZOFFSETTO:-0600
TZNAME:MDT
DTSTART:20250309T090000
END:DAYLIGHT
BEGIN:STANDARD
TZOFFSETFROM:-0600
TZOFFSETTO:-0700
TZNAME:MST
DTSTART:20251102T080000
END:STANDARD
END:VTIMEZONE
BEGIN:VEVENT
DTSTART;VALUE=DATE:20240521
DTEND;VALUE=DATE:20240524
DTSTAMP:20260419T234748
CREATED:20240508T201004Z
LAST-MODIFIED:20240516T143323Z
UID:10000478-1716249600-1716508799@www.cwc.edu
SUMMARY:Community Health Summit
DESCRIPTION:Come together with us for a day dedicated to giving back to our community. This event will delve into health disparities and solutions for positive health outcomes. \nBooths | 8:30 a.m.- 4 p.m. | Evening Social Feed \nRegistration is free: https://forms.gle/KdMjUg4q9o3tbiVGA \nView the Agenda and Breakout Sessions \nSponsored by: Institute of Tribal Learning\, DOYA Natsu Healing Center and Wind River Family/Community Health Center \nIf you have any questions or concerns\, please contact Ivan Posey at iposey@cwc.edu or Lisa Appelhans at 307-855-2026.
URL:https://www.cwc.edu/event/community-health-summit-202405/
LOCATION:CWC Intertribal Education and Community Center\, 2660 Peck Avenue\, Riverton\, WY\, 82501\, United States
CATEGORIES:General
ATTACH;FMTTYPE=image/png:https://www.cwc.edu/wp-content/uploads/2024/05/SaveDay_HealthSummit_2024_600x338px.png
END:VEVENT
END:VCALENDAR