BEGIN:VCALENDAR
VERSION:2.0
PRODID:-//Central Wyoming College - ECPv6.15.17.1//NONSGML v1.0//EN
CALSCALE:GREGORIAN
METHOD:PUBLISH
X-WR-CALNAME:Central Wyoming College
X-ORIGINAL-URL:https://www.cwc.edu
X-WR-CALDESC:Events for Central Wyoming College
REFRESH-INTERVAL;VALUE=DURATION:PT1H
X-Robots-Tag:noindex
X-PUBLISHED-TTL:PT1H
BEGIN:VTIMEZONE
TZID:America/Denver
BEGIN:DAYLIGHT
TZOFFSETFROM:-0700
TZOFFSETTO:-0600
TZNAME:MDT
DTSTART:20230312T090000
END:DAYLIGHT
BEGIN:STANDARD
TZOFFSETFROM:-0600
TZOFFSETTO:-0700
TZNAME:MST
DTSTART:20231105T080000
END:STANDARD
BEGIN:DAYLIGHT
TZOFFSETFROM:-0700
TZOFFSETTO:-0600
TZNAME:MDT
DTSTART:20240310T090000
END:DAYLIGHT
BEGIN:STANDARD
TZOFFSETFROM:-0600
TZOFFSETTO:-0700
TZNAME:MST
DTSTART:20241103T080000
END:STANDARD
BEGIN:DAYLIGHT
TZOFFSETFROM:-0700
TZOFFSETTO:-0600
TZNAME:MDT
DTSTART:20250309T090000
END:DAYLIGHT
BEGIN:STANDARD
TZOFFSETFROM:-0600
TZOFFSETTO:-0700
TZNAME:MST
DTSTART:20251102T080000
END:STANDARD
END:VTIMEZONE
BEGIN:VEVENT
DTSTART;TZID=America/Denver:20240518T110000
DTEND;TZID=America/Denver:20240518T220000
DTSTAMP:20260419T235144
CREATED:20240410T172611Z
LAST-MODIFIED:20240528T180559Z
UID:10000468-1716030000-1716069600@www.cwc.edu
SUMMARY:4th Annual Teton Powwow
DESCRIPTION:NEW LOCATION \nMunger Mountain Elementary School \n7605 – US Hwy 89\, 12 miles south of Jackson\, WY\nTHIS IS AN OUTDOOR EVENT\n\n\n\n\n\nIMPORTANT  – NEW VENUE INFORMATION \nWe are excited to share that we have a new location for the Teton Powwow in 2024. It’s a perfect venue for a traditional outdoor powwow and we are happy to partner with the Teton County School District and Munger Mountain Elementary School to host this event in Jackson\, WY. This venue will allow us to host a traditional outdoor powwow.  Spectators and Dancers are encouraged to bring their own chairs   \n\nAdmission: To attend the powwow\, there will be a $15.00 per car admission.  All Native Americans\, are free\n\n\nFor more details\, please visit www.cwc.edu/teton-powwow
URL:https://www.cwc.edu/event/teton-powwow-2024/
LOCATION:Munger Mountain Elementary School\, 7605 US-89\, Jackson\, WY\, 83001\, United States
CATEGORIES:General
ATTACH;FMTTYPE=image/png:https://www.cwc.edu/wp-content/uploads/2024/04/2024_tetonpowwow_600x338px.png
END:VEVENT
END:VCALENDAR