BEGIN:VCALENDAR
VERSION:2.0
PRODID:-//Central Wyoming College - ECPv6.15.17.1//NONSGML v1.0//EN
CALSCALE:GREGORIAN
METHOD:PUBLISH
X-WR-CALNAME:Central Wyoming College
X-ORIGINAL-URL:https://www.cwc.edu
X-WR-CALDESC:Events for Central Wyoming College
REFRESH-INTERVAL;VALUE=DURATION:PT1H
X-Robots-Tag:noindex
X-PUBLISHED-TTL:PT1H
BEGIN:VTIMEZONE
TZID:America/Denver
BEGIN:DAYLIGHT
TZOFFSETFROM:-0700
TZOFFSETTO:-0600
TZNAME:MDT
DTSTART:20230312T090000
END:DAYLIGHT
BEGIN:STANDARD
TZOFFSETFROM:-0600
TZOFFSETTO:-0700
TZNAME:MST
DTSTART:20231105T080000
END:STANDARD
BEGIN:DAYLIGHT
TZOFFSETFROM:-0700
TZOFFSETTO:-0600
TZNAME:MDT
DTSTART:20240310T090000
END:DAYLIGHT
BEGIN:STANDARD
TZOFFSETFROM:-0600
TZOFFSETTO:-0700
TZNAME:MST
DTSTART:20241103T080000
END:STANDARD
BEGIN:DAYLIGHT
TZOFFSETFROM:-0700
TZOFFSETTO:-0600
TZNAME:MDT
DTSTART:20250309T090000
END:DAYLIGHT
BEGIN:STANDARD
TZOFFSETFROM:-0600
TZOFFSETTO:-0700
TZNAME:MST
DTSTART:20251102T080000
END:STANDARD
END:VTIMEZONE
BEGIN:VEVENT
DTSTART;VALUE=DATE:20240228
DTEND;VALUE=DATE:20240229
DTSTAMP:20260419T235204
CREATED:20240226T171106Z
LAST-MODIFIED:20240226T171106Z
UID:10000428-1709078400-1709164799@www.cwc.edu
SUMMARY:National TRIO Day
DESCRIPTION:CWC Celebrates National TRIO Day\n \nCentral Wyoming College Student Support Services will join hundreds of colleges and universities across the nation to celebrate the 38th anniversary of National TRIO Day on Wednesday\, February 28\, 2024. \n\n National TRIO Day is a day to recognize the achievements of the federal TRIO programs\, which provide educational opportunity and support for low-income\, first-generation students and students with disabilities.\n\n The TRIO Student Support Services program at Central Wyoming College serves over 375 students annually. Unlike student financial aid programs\, which help students overcome financial hurdles to higher education\, the TRIO programs recognize the importance of overcoming all barriers to success. These programs provide academic advising\, tutoring\, mentoring\, financial aid assistance\, college preparation\, career exploration\, and cultural enrichment activities for eligible students.\n\nAs the official National Day of Service for the Federal TRIO Programs\, TRIO Day is an opportunity to focus on increased investment in first-generation\, low-income students. Enacted by a Congressional Resolution in 1986\, National TRIO Day calls citizens from all walks of life to unite to promote educational access and success in communities where TRIO Programs continue to create change. By providing students\, professionals\, alumni\, and affiliates the chance to contribute through community service\, TRIO Day celebrates the lives transformed by college access and success.
URL:https://www.cwc.edu/event/national-trio-day/
LOCATION:CWC Riverton\, 2660 Peck Ave\, Riverton\, WY\, 82501\, United States
CATEGORIES:General
ATTACH;FMTTYPE=image/png:https://www.cwc.edu/wp-content/uploads/2024/02/National-TRIO-Day-600-x-338-px.png
END:VEVENT
END:VCALENDAR