BEGIN:VCALENDAR
VERSION:2.0
PRODID:-//Central Wyoming College - ECPv6.15.20//NONSGML v1.0//EN
CALSCALE:GREGORIAN
METHOD:PUBLISH
X-ORIGINAL-URL:https://www.cwc.edu
X-WR-CALDESC:Events for Central Wyoming College
REFRESH-INTERVAL;VALUE=DURATION:PT1H
X-Robots-Tag:noindex
X-PUBLISHED-TTL:PT1H
BEGIN:VTIMEZONE
TZID:America/Denver
BEGIN:DAYLIGHT
TZOFFSETFROM:-0700
TZOFFSETTO:-0600
TZNAME:MDT
DTSTART:20240310T090000
END:DAYLIGHT
BEGIN:STANDARD
TZOFFSETFROM:-0600
TZOFFSETTO:-0700
TZNAME:MST
DTSTART:20241103T080000
END:STANDARD
BEGIN:DAYLIGHT
TZOFFSETFROM:-0700
TZOFFSETTO:-0600
TZNAME:MDT
DTSTART:20250309T090000
END:DAYLIGHT
BEGIN:STANDARD
TZOFFSETFROM:-0600
TZOFFSETTO:-0700
TZNAME:MST
DTSTART:20251102T080000
END:STANDARD
BEGIN:DAYLIGHT
TZOFFSETFROM:-0700
TZOFFSETTO:-0600
TZNAME:MDT
DTSTART:20260308T090000
END:DAYLIGHT
BEGIN:STANDARD
TZOFFSETFROM:-0600
TZOFFSETTO:-0700
TZNAME:MST
DTSTART:20261101T080000
END:STANDARD
END:VTIMEZONE
BEGIN:VEVENT
DTSTART;TZID=America/Denver:20250903T113000
DTEND;TZID=America/Denver:20250903T130000
DTSTAMP:20260422T060856
CREATED:20250828T164629Z
LAST-MODIFIED:20250903T153304Z
UID:10001762-1756899000-1756904400@www.cwc.edu
SUMMARY:Community Cedaring
DESCRIPTION:Students\, faculty\, staff and community are invited to participate in this community cedaring hosted by the Institute of Tribal Learning. \nWednesday\, September 3\, 2026\n11:30 a.m. – 1 p.m.\nCentral Wyoming College’s Intertribal Education and Community Center Atrium\nhttps://www.cwc.edu/about/map/ \nSnacks and beverages provided.
URL:https://www.cwc.edu/event/community-cedaring-2/
LOCATION:CWC Intertribal Education and Community Center\, 2660 Peck Avenue\, Riverton\, WY\, 82501\, United States
CATEGORIES:General
ATTACH;FMTTYPE=image/png:https://www.cwc.edu/wp-content/uploads/2025/08/Cedaring.png
END:VEVENT
BEGIN:VEVENT
DTSTART;TZID=America/Denver:20250906T190000
DTEND;TZID=America/Denver:20250906T213000
DTSTAMP:20260422T060856
CREATED:20250825T165442Z
LAST-MODIFIED:20250827T165855Z
UID:10001756-1757185200-1757194200@www.cwc.edu
SUMMARY:An Evening with CWC Theatre
DESCRIPTION:Join us for a celebration as we bring the stage to life with beloved songs from past productions and an exciting sneak peak for the upcoming season’s plays. Relive the moments you loved\, get a taste of what’s to come\, and be the first to experience the magic of our new season! Tickets are $10 per person. \nPlease RSVP by September 4th. RSVP and purchase tickets here
URL:https://www.cwc.edu/event/an-evening-with-cwc-theatre/
LOCATION:CWC Robert A. Peck Arts Center\, 2660 Peck Avenue\, Riverton\, WY\, 82501\, United States
CATEGORIES:Ag & Equine,General
ATTACH;FMTTYPE=image/jpeg:https://www.cwc.edu/wp-content/uploads/2025/08/Event-Images-2.jpg
END:VEVENT
BEGIN:VEVENT
DTSTART;TZID=America/Denver:20250913T120000
DTEND;TZID=America/Denver:20250913T193000
DTSTAMP:20260422T060856
CREATED:20250825T173029Z
LAST-MODIFIED:20250827T170244Z
UID:10001757-1757764800-1757791800@www.cwc.edu
SUMMARY:Pushroot Valley Harvest - Dinner and Farm Tours
DESCRIPTION:Join us for a day of celebrating and enjoying a fest of local foods from the Lander area! You can choose to participate in one or both events.  \nFarm Tours: 12:00 – 5:30pm\nSpend the afternoon touring four local\, family owned farms. Each stop will offer a look at fresh produce and livestock and will feature engaging hands-on activities at each stop. Transportation provided! $10\n \nFarm to Table Dinner: 5:00 – 7:30pm\nSit down for a farm to table dinner at the CWC Alpine Science Institute. The dinner will feature locally sourced ingredients prepared by the CWC Culinary Program\, live music\, drinks\, and storytelling. $45\n \nTickets available here
URL:https://www.cwc.edu/event/pushroot-valley-harvest-farm-to-table-dinner-and-farm-tours/
LOCATION:CWC Alpine Science Institute\, 50 Field Station Rd\, Lander\, WY\, 82520\, United States
CATEGORIES:General
ATTACH;FMTTYPE=image/jpeg:https://www.cwc.edu/wp-content/uploads/2025/08/Farm-to-Table-Dinner-Event-Post.jpg
END:VEVENT
BEGIN:VEVENT
DTSTART;TZID=America/Denver:20250915T090000
DTEND;TZID=America/Denver:20250915T103000
DTSTAMP:20260422T060856
CREATED:20250903T185935Z
LAST-MODIFIED:20250904T191126Z
UID:10001763-1757926800-1757932200@www.cwc.edu
SUMMARY:2025 Wyoming Post-High School Planning Days
DESCRIPTION:Planning Days are college fairs hosted at different high schools throughout the state. These fairs are open to high school juniors and seniors and provide an opportunity to meet with colleges\, military and other organizations you are interested in learning more about. This is a fantastic time to start your post-secondary search! To find out more about the fair in your area\, click here to view the Planning Days Schedule. \nPrior to attending a Wyoming Admissions Officers Planning Day College Fair\, register for a barcode at www.StriveFair.com. Show your barcode to colleges who will scan it to easily get your information and send you more details about their school\, the application process\, financial aid\, and important deadlines. The day after the fair\, you will receive a report with information on the colleges with whom you scanned. \nWyoming Post-High School Planning Days is sponsored by the Wyoming Admissions Officers (WAO) in cooperation with the Wyoming high school counselors.
URL:https://www.cwc.edu/event/2025-wyoming-post-high-school-planning-days/
LOCATION:CWC Rustler Gymnasium\, 2660 Peck Ave\, Riverton\, 82501\, United States
CATEGORIES:General
ATTACH;FMTTYPE=image/png:https://www.cwc.edu/wp-content/uploads/2025/09/Events.png
END:VEVENT
BEGIN:VEVENT
DTSTART;TZID=America/Denver:20250916T170000
DTEND;TZID=America/Denver:20250916T190000
DTSTAMP:20260422T060856
CREATED:20250910T194919Z
LAST-MODIFIED:20250910T194919Z
UID:10001770-1758042000-1758049200@www.cwc.edu
SUMMARY:Bingo Night & Student Feed
DESCRIPTION:Join us for a fun evening of food\, games\, and community! The Institute of Tribal Learning invites all CWC students to Bingo Night & Student Feed on Tuesday\, September 16\, from 5–7 p.m. in ITECC 115. \nEnjoy a free meal and drinks while playing rounds of bingo for a chance to win great prizes. This event is free and open to all CWC students — bring your friends and come ready for good food\, good company\, and lots of fun!
URL:https://www.cwc.edu/event/bingo-night-student-feed/
LOCATION:CWC Intertribal Education and Community Center\, 2660 Peck Avenue\, Riverton\, WY\, 82501\, United States
CATEGORIES:General
ATTACH;FMTTYPE=image/jpeg:https://www.cwc.edu/wp-content/uploads/2025/09/ITL-Bingo_Sept-1.jpeg
END:VEVENT
BEGIN:VEVENT
DTSTART;TZID=America/Denver:20250918T100000
DTEND;TZID=America/Denver:20250918T130000
DTSTAMP:20260422T060856
CREATED:20250827T135259Z
LAST-MODIFIED:20250902T163859Z
UID:10001761-1758189600-1758200400@www.cwc.edu
SUMMARY:Fremont County Business Connect
DESCRIPTION:Mark your calendar! Fremont County Business Connect is happening soon. Gain valuable insights and make meaningful connections in your community. Hosted by the Wyoming Business Council.\nThursday\, September 18\n\n\nCentral Wyoming College Robert A. Peck Arts Center\n2660 Peck Avenue\, Riverton\, WY 82501\n\n\nPresentations: 10:00 a.m. – Noon\nNetworking & Refreshments: Noon – 1:00 p.m.\nRegistration: https://docs.google.com/…/1FAIpQLSc6HqHCKpx…/viewform…
URL:https://www.cwc.edu/event/fremont-county-business-connect/
LOCATION:CWC Robert A. Peck Arts Center\, 2660 Peck Avenue\, Riverton\, WY\, 82501\, United States
CATEGORIES:General
ATTACH;FMTTYPE=image/jpeg:https://www.cwc.edu/wp-content/uploads/2025/08/WBC_FreCo-Biz-Connenct.jpg
END:VEVENT
BEGIN:VEVENT
DTSTART;VALUE=DATE:20250919
DTEND;VALUE=DATE:20250922
DTSTAMP:20260422T060856
CREATED:20250909T152332Z
LAST-MODIFIED:20250919T180557Z
UID:10001769-1758240000-1758499199@www.cwc.edu
SUMMARY:Rustler Roundup Rodeo 2025
DESCRIPTION:Location: FREMONT COUNTY FAIRGROUNDS\nADMISSION $10/DAY\nGet your tickets online: www.rodeoticket.com/rodeos/rustler-roundup-rodeo/2025/tickets \nFriday. Sep.19: 12 p.m. Performance | 5 p.m. Slack\n\nSaturday\, Sep. 20: 9 a.m. Slack | 2 p.m. Performance \nSunday\, Sep. 21: 11 a.m. Final
URL:https://www.cwc.edu/event/rustler-roundup-rodeo-2025/
LOCATION:Fremont County Fairgrounds\, 1010 Fairgrounds Road\, Riverton\, WY\, 82501
CATEGORIES:Athletics,General
ATTACH;FMTTYPE=image/jpeg:https://www.cwc.edu/wp-content/uploads/2025/09/Rustler-Roundup-Rodeo-2025.jpg
END:VEVENT
BEGIN:VEVENT
DTSTART;VALUE=DATE:20250926
DTEND;VALUE=DATE:20250929
DTSTAMP:20260422T060856
CREATED:20250826T140633Z
LAST-MODIFIED:20250902T163322Z
UID:10001759-1758844800-1759103999@www.cwc.edu
SUMMARY:The Signal Season of Dummy Hoy
DESCRIPTION:It’s 1886\, William Ellsworth “Dummy” Hoy is the first deaf player to join minor league baseball. A no-nonsense manager\, players with colorful personalities\, and a curious reporter create the milieu “Dummy” must understand and engage with to belong. After being recruited to a team in Oshkosh\, he quickly becomes one of the best hitters on the team; however\, his deafness gently and humorously expose the misunderstandings found with any language barrier. “The Signal Season of Dummy Hoy” is performed in both English and American Sign Language. From a bygone era\, where humor\, compassion and understanding are as important then as they are now and essential to growth\, as is being open to change. \nPerformances: Thursday – Saturday\, September 25\, 26\, 27 @ 7 p.m.\nSunday\, September 28 @ 2 p.m. \n$10 General Admission\, space is limited. Purchase tickets at the box office or online here
URL:https://www.cwc.edu/event/the-signal-season-of-dummy-hoy/
LOCATION:CWC Little Theatre (Student Center Building)\, 2660 Peck Avenue\, Riverton\, 82501\, United States
CATEGORIES:Arts Center,General
ATTACH;FMTTYPE=image/jpeg:https://www.cwc.edu/wp-content/uploads/2025/08/Event-Images-1.jpg
END:VEVENT
BEGIN:VEVENT
DTSTART;VALUE=DATE:20250927
DTEND;VALUE=DATE:20250929
DTSTAMP:20260422T060856
CREATED:20250909T141914Z
LAST-MODIFIED:20250909T141914Z
UID:10001768-1758931200-1759103999@www.cwc.edu
SUMMARY:Matt Kelly Ranch Horse Clinic
DESCRIPTION:Join the CWC Ranch Horse Team for a special two-day clinic. The Matt Kelly Ranch Horse Clinic is a hands-on clinic that will focus on practical ranch horse skills\, horsemanship\, and techniques to help riders and horses work better together. Riders of all levels are welcome to participate and gain valuable instruction in a supportive learning environment. \nThe clinic will take place Sept 27-28\, 2025\, at the CWC Ag & Equine Complex. Saturday from 1 to 5 p.m. and Sunday 8 a.m. to noon. Stalls will be available at 875 Gasser Road. Registration is $300 per person with a $100 deposit. \nThis event is also a fundraiser for the CWC Ranch Horse Team\, so your participation directly supports student-athletes in their competitive and educational pursuits. \nReserve your spot today here or contact 307-851-3820 / joriskaggs@gmail.com for more information.
URL:https://www.cwc.edu/event/matt-kelly-ranch-horse-clinic/
LOCATION:CWC Rustler AG & Equine Complex\, 1110 Day Dr\, Riverton\, WY\, 82501\, United States
CATEGORIES:Ag & Equine,General
ATTACH;FMTTYPE=image/jpeg:https://www.cwc.edu/wp-content/uploads/2025/09/Mat-Kelly-Clinic.jpg
END:VEVENT
BEGIN:VEVENT
DTSTART;TZID=America/Denver:20250927T080000
DTEND;TZID=America/Denver:20250927T160000
DTSTAMP:20260422T060856
CREATED:20250903T201618Z
LAST-MODIFIED:20250910T225606Z
UID:10001764-1758960000-1758988800@www.cwc.edu
SUMMARY:Shoot the WY LEO Qualification
DESCRIPTION:This class is taught by a POST-Certified Firearms Instructor and is designed for pistol shooters at the intermediate or above skill level. The course of fire for the class prepares the student to shoot the same WY LEO annual handgun qualification as a police officer. Students need to bring a reliable center-fire pistol\, strong-side holster\, 3 magazines\, mag holder\, and 300-400 rounds of ammunition. Bring water\, food\, sunscreen\, etc. as desired. \n\nSaturday\, Sept 27\, 8 AM-4 PM\, Shoshoni Rifle Range\nCredits: 0.5\nCost: $122.25 (In-state tuition\, general fees\, course fees)\nInstructor: Cody Myers\n\nFor more info or to register\, call 307-855-2115
URL:https://www.cwc.edu/event/shoot-the-wy-leo-qualification/
LOCATION:Shoshoni Rifle Range\, Muskrat Rd\, Shoshoni\, WY\, 82649\, United States
CATEGORIES:General
ATTACH;FMTTYPE=image/png:https://www.cwc.edu/wp-content/uploads/2025/09/Fall-Pistol-Class.png
END:VEVENT
BEGIN:VEVENT
DTSTART;TZID=America/Denver:20250930T180000
DTEND;TZID=America/Denver:20250930T190000
DTSTAMP:20260422T060856
CREATED:20250912T222600Z
LAST-MODIFIED:20250930T222611Z
UID:10001771-1759255200-1759258800@www.cwc.edu
SUMMARY:Engaging with your Local Business Ecosystem
DESCRIPTION:Bootstrap Event: Engaging with your Local Business Ecosystem\n\n\nJoin us for an interactive session exploring how to connect\, collaborate\, and thrive within your local business ecosystem. Discover resources\, partnerships\, and opportunities to help your ideas and ventures grow.\n\n\nDate: Tuesday\, September 30th\nWho: Small Businesses and Ecosystem Partners\nTime: 6-7pm\nWhere: Brunton Building and online\nZoom Link: cwc-edu.zoom.us/j/98057949599
URL:https://www.cwc.edu/event/bootstrap-event-engaging-with-your-local-business-ecosystem/
LOCATION:Brunton Building\, 255 Brunton Crt\, Riverton\, WY\, 82501\, United States
CATEGORIES:General
ATTACH;FMTTYPE=image/jpeg:https://www.cwc.edu/wp-content/uploads/2025/09/Bootstrap-Business-Ecosystem.jpg
END:VEVENT
BEGIN:VEVENT
DTSTART;TZID=America/Denver:20250930T183000
DTEND;TZID=America/Denver:20250930T193000
DTSTAMP:20260422T060856
CREATED:20250904T190642Z
LAST-MODIFIED:20250904T193642Z
UID:10001765-1759257000-1759260600@www.cwc.edu
SUMMARY:Teton Talks
DESCRIPTION:Leading in Times of Crisis: An Evening with Thom Mayer\, MD \nJoin us for a powerful evening of storytelling and conversation with Thom Mayer\, MD\, Medical Director for the National Football League Players Association. Dr. Mayer has led response teams through some of the most challenging moments in modern history\, including the 9/11 Pentagon attack\, Hurricane Katrina\, NFL on-field medical emergencies\, and the ongoing war in Ukraine. \nThrough his experiences\, Dr. Mayer will share invaluable insights on leadership\, resilience\, and navigating crisis when the stakes are at their highest.
URL:https://www.cwc.edu/event/teton-talks/
LOCATION:Teton County Library\, Ordway Auditorium\, 125 Virginian Lane\, Jackson\, WY\, 83002\, United States
CATEGORIES:General
ATTACH;FMTTYPE=image/png:https://www.cwc.edu/wp-content/uploads/2025/09/Event-Feature-Image.png
END:VEVENT
END:VCALENDAR