BEGIN:VCALENDAR
VERSION:2.0
PRODID:-//Central Wyoming College - ECPv6.15.20//NONSGML v1.0//EN
CALSCALE:GREGORIAN
METHOD:PUBLISH
X-WR-CALNAME:Central Wyoming College
X-ORIGINAL-URL:https://www.cwc.edu
X-WR-CALDESC:Events for Central Wyoming College
REFRESH-INTERVAL;VALUE=DURATION:PT1H
X-Robots-Tag:noindex
X-PUBLISHED-TTL:PT1H
BEGIN:VTIMEZONE
TZID:America/Denver
BEGIN:DAYLIGHT
TZOFFSETFROM:-0700
TZOFFSETTO:-0600
TZNAME:MDT
DTSTART:20240310T090000
END:DAYLIGHT
BEGIN:STANDARD
TZOFFSETFROM:-0600
TZOFFSETTO:-0700
TZNAME:MST
DTSTART:20241103T080000
END:STANDARD
BEGIN:DAYLIGHT
TZOFFSETFROM:-0700
TZOFFSETTO:-0600
TZNAME:MDT
DTSTART:20250309T090000
END:DAYLIGHT
BEGIN:STANDARD
TZOFFSETFROM:-0600
TZOFFSETTO:-0700
TZNAME:MST
DTSTART:20251102T080000
END:STANDARD
BEGIN:DAYLIGHT
TZOFFSETFROM:-0700
TZOFFSETTO:-0600
TZNAME:MDT
DTSTART:20260308T090000
END:DAYLIGHT
BEGIN:STANDARD
TZOFFSETFROM:-0600
TZOFFSETTO:-0700
TZNAME:MST
DTSTART:20261101T080000
END:STANDARD
END:VTIMEZONE
BEGIN:VEVENT
DTSTART;TZID=America/Denver:20250814T180000
DTEND;TZID=America/Denver:20250814T193000
DTSTAMP:20260420T234858
CREATED:20250801T220348Z
LAST-MODIFIED:20250801T220348Z
UID:10001750-1755194400-1755199800@www.cwc.edu
SUMMARY:Bootstrap Virtual Networking Event
DESCRIPTION:Join the Bootstrap Collaborative for a power-packed Virtual Networking Event. This engaging online gathering is designed for entrepreneurs\, dedicated ecosystem partners\, and the broader business community to discover new resources\, uncover collaboration opportunities\, gain invaluable insights\, and tell their stories.  This is a virtual event.  See link below for access. \n  \nZoom Link
URL:https://www.cwc.edu/event/bootstrap-virtual-networking-event/
CATEGORIES:Bootstrap Collaborative,General
ATTACH;FMTTYPE=image/png:https://www.cwc.edu/wp-content/uploads/2025/08/Virtual-Networking-Event-2025-1.png
END:VEVENT
END:VCALENDAR