BEGIN:VCALENDAR
VERSION:2.0
PRODID:-//Central Wyoming College - ECPv6.15.20//NONSGML v1.0//EN
CALSCALE:GREGORIAN
METHOD:PUBLISH
X-WR-CALNAME:Central Wyoming College
X-ORIGINAL-URL:https://www.cwc.edu
X-WR-CALDESC:Events for Central Wyoming College
REFRESH-INTERVAL;VALUE=DURATION:PT1H
X-Robots-Tag:noindex
X-PUBLISHED-TTL:PT1H
BEGIN:VTIMEZONE
TZID:America/Denver
BEGIN:DAYLIGHT
TZOFFSETFROM:-0700
TZOFFSETTO:-0600
TZNAME:MDT
DTSTART:20240310T090000
END:DAYLIGHT
BEGIN:STANDARD
TZOFFSETFROM:-0600
TZOFFSETTO:-0700
TZNAME:MST
DTSTART:20241103T080000
END:STANDARD
BEGIN:DAYLIGHT
TZOFFSETFROM:-0700
TZOFFSETTO:-0600
TZNAME:MDT
DTSTART:20250309T090000
END:DAYLIGHT
BEGIN:STANDARD
TZOFFSETFROM:-0600
TZOFFSETTO:-0700
TZNAME:MST
DTSTART:20251102T080000
END:STANDARD
BEGIN:DAYLIGHT
TZOFFSETFROM:-0700
TZOFFSETTO:-0600
TZNAME:MDT
DTSTART:20260308T090000
END:DAYLIGHT
BEGIN:STANDARD
TZOFFSETFROM:-0600
TZOFFSETTO:-0700
TZNAME:MST
DTSTART:20261101T080000
END:STANDARD
END:VTIMEZONE
BEGIN:VEVENT
DTSTART;TZID=America/Denver:20250409T180000
DTEND;TZID=America/Denver:20250409T200000
DTSTAMP:20260422T033913
CREATED:20250205T161850Z
LAST-MODIFIED:20250408T201610Z
UID:10001706-1744221600-1744228800@www.cwc.edu
SUMMARY:Startup Challenge 2025
DESCRIPTION:The Startup Challenge is for individuals or teams to pitch their business concept as well as for existing small businesses that are looking to take it to the next level. They will get to connect with potential investors\, partners and other entrepreneurs while receiving guidance from industry experts. \nFor more info\, email mhoyt@cwc.edu
URL:https://www.cwc.edu/event/startup-challenge/
LOCATION:CWC Little Theatre (Student Center Building)\, 2660 Peck Avenue\, Riverton\, 82501\, United States
CATEGORIES:Bootstrap Collaborative,General
ATTACH;FMTTYPE=image/png:https://www.cwc.edu/wp-content/uploads/2025/02/Startup-Challenge-2025-600x338px.png
END:VEVENT
END:VCALENDAR