BEGIN:VCALENDAR
VERSION:2.0
PRODID:-//Central Wyoming College - ECPv6.15.17.1//NONSGML v1.0//EN
CALSCALE:GREGORIAN
METHOD:PUBLISH
X-ORIGINAL-URL:https://www.cwc.edu
X-WR-CALDESC:Events for Central Wyoming College
REFRESH-INTERVAL;VALUE=DURATION:PT1H
X-Robots-Tag:noindex
X-PUBLISHED-TTL:PT1H
BEGIN:VTIMEZONE
TZID:America/Denver
BEGIN:DAYLIGHT
TZOFFSETFROM:-0700
TZOFFSETTO:-0600
TZNAME:MDT
DTSTART:20240310T090000
END:DAYLIGHT
BEGIN:STANDARD
TZOFFSETFROM:-0600
TZOFFSETTO:-0700
TZNAME:MST
DTSTART:20241103T080000
END:STANDARD
BEGIN:DAYLIGHT
TZOFFSETFROM:-0700
TZOFFSETTO:-0600
TZNAME:MDT
DTSTART:20250309T090000
END:DAYLIGHT
BEGIN:STANDARD
TZOFFSETFROM:-0600
TZOFFSETTO:-0700
TZNAME:MST
DTSTART:20251102T080000
END:STANDARD
BEGIN:DAYLIGHT
TZOFFSETFROM:-0700
TZOFFSETTO:-0600
TZNAME:MDT
DTSTART:20260308T090000
END:DAYLIGHT
BEGIN:STANDARD
TZOFFSETFROM:-0600
TZOFFSETTO:-0700
TZNAME:MST
DTSTART:20261101T080000
END:STANDARD
END:VTIMEZONE
BEGIN:VEVENT
DTSTART;TZID=America/Denver:20250807T080000
DTEND;TZID=America/Denver:20250807T160000
DTSTAMP:20260420T084049
CREATED:20250715T202152Z
LAST-MODIFIED:20250728T203627Z
UID:10001745-1754553600-1754582400@www.cwc.edu
SUMMARY:CWC High School Volleyball Skills Camp
DESCRIPTION:CWC High School Volleyball Skills Camp\nWhen: Thursday\, August 7\, 2025 • Libero/Defense: 8–9 AM • Setting: 10–11 AM • Hitting: 1–2:30 PM • Blocking: 3–4 PMWhere: Central Wyoming College\, 2660 Peck Ave\, Riverton\, WYWho: 9th–12th Grade High School Volleyball PlayersCost: $20 per session • $60 for all four sessions \nOverview\nLed by CWC Rustler Volleyball players\, this camp offers targeted training in all four primary positions—libero\, setter\, hitter\, and blocker. Ideal for high school athletes looking to refine their techniques and gain a competitive edge. \nLearning Objectives\nDefensive fundamentals and serve-receive systems \nAdvanced setting tactics and transition offense \nHitting power\, timing\, and footwork \nBlocking strategies\, positioning\, and team coordination \nRegistration\nEmail volleyball@cwc.edu or register online here.Deadline: Friday\, August 1
URL:https://www.cwc.edu/event/cwc-high-school-volleyball-skills-camp/
CATEGORIES:Athletics,General
ATTACH;FMTTYPE=image/png:https://www.cwc.edu/wp-content/uploads/2025/07/2025-High-School-Camp-pic.png
END:VEVENT
BEGIN:VEVENT
DTSTART;TZID=America/Denver:20250808T090000
DTEND;TZID=America/Denver:20250808T153000
DTSTAMP:20260420T084049
CREATED:20250731T150002Z
LAST-MODIFIED:20250731T150003Z
UID:10001747-1754643600-1754667000@www.cwc.edu
SUMMARY:CWC Volleyball Camp
DESCRIPTION:CWC Volleyball Camp (3rd–8th Grade)\nWhen: Friday & Saturday\, August 8–9\, 2025Where: Central Wyoming College\, 2660 Peck Ave\, Riverton\, WYWho: 3rd–8th Grade Volleyball PlayersCost: $70 (2-day camp) \n3rd–5th Grade Camp\nTime: 9:00 AM – 11:00 AM (both days)Focus: \nIntroduction to volleyball fundamentals \nFun\, game-based drills for passing\, serving\, and teamwork \nBuilding confidence on the court \nLearning how to communicate as a team👩‍🏫 Instruction will be fun\, age-appropriate\, and high-energy—perfect for beginners or those still developing their foundational skills. \n\n\n6th–8th Grade Camp\nTime: 1:00 PM – 3:30 PM (both days)Focus: \nSkill refinement: serving techniques\, setting mechanics\, and consistent passing \nIntroduction to offensive and defensive positioning \nGame-like scenarios and competitive play \nBuilding teamwork and leadership skills👩‍🏫 This session is designed to prepare middle school players for competitive volleyball and help them transition to higher levels with confidence. \n📝 Registration\n📧 Email: volleyball@cwc.edu📞 Phone: 307‑855‑2322🖱️ Or Register Online Here
URL:https://www.cwc.edu/event/cwc-volleyball-camp-2/
CATEGORIES:Athletics,General
ATTACH;FMTTYPE=image/png:https://www.cwc.edu/wp-content/uploads/2025/07/2025-CWC-Volleyball-Camp-Flyer-banner.png
END:VEVENT
BEGIN:VEVENT
DTSTART;TZID=America/Denver:20250809T090000
DTEND;TZID=America/Denver:20250809T153000
DTSTAMP:20260420T084049
CREATED:20250715T203238Z
LAST-MODIFIED:20250728T203723Z
UID:10001748-1754730000-1754753400@www.cwc.edu
SUMMARY:CWC Volleyball Camp
DESCRIPTION:CWC Volleyball Camp (3rd–8th Grade)\nWhen: Friday & Saturday\, August 8–9\, 2025Where: Central Wyoming College\, 2660 Peck Ave\, Riverton\, WYWho: 3rd–8th Grade Volleyball PlayersCost: $70 (2-day camp) \n3rd–5th Grade Camp\nTime: 9:00 AM – 11:00 AM (both days)Focus: \nIntroduction to volleyball fundamentals \nFun\, game-based drills for passing\, serving\, and teamwork \nBuilding confidence on the court \nLearning how to communicate as a team👩‍🏫 Instruction will be fun\, age-appropriate\, and high-energy—perfect for beginners or those still developing their foundational skills. \n\n\n6th–8th Grade Camp\nTime: 1:00 PM – 3:30 PM (both days)Focus: \nSkill refinement: serving techniques\, setting mechanics\, and consistent passing \nIntroduction to offensive and defensive positioning \nGame-like scenarios and competitive play \nBuilding teamwork and leadership skills👩‍🏫 This session is designed to prepare middle school players for competitive volleyball and help them transition to higher levels with confidence. \n📝 Registration\n📧 Email: volleyball@cwc.edu📞 Phone: 307‑855‑2322🖱️ Or Register Online Here
URL:https://www.cwc.edu/event/cwc-volleyball-camp/2025-08-09/
CATEGORIES:Athletics,General
ATTACH;FMTTYPE=image/png:https://www.cwc.edu/wp-content/uploads/2025/07/2025-CWC-Volleyball-Camp-Flyer-banner.png
END:VEVENT
BEGIN:VEVENT
DTSTART;TZID=America/Denver:20250809T093000
DTEND;TZID=America/Denver:20250809T150000
DTSTAMP:20260420T084049
CREATED:20250728T172701Z
LAST-MODIFIED:20250728T172811Z
UID:10001749-1754731800-1754751600@www.cwc.edu
SUMMARY:CWC Women's Soccer Camp
DESCRIPTION:Women’s Soccer Camp\nHosted by Central Wyoming College \nDate: Saturday\, August 9Cost: $55 \nSchedule by Age Group:\nU6–U10: 9:30 – 10:30 A.M. \nU10–U14: 10:30 A.M. – 12:00 P.M. \nU14–U18: 1:00 – 3:00 P.M. \nRegistration Now Open
URL:https://www.cwc.edu/event/cwc-womens-soccer-camp-2/
CATEGORIES:Athletics,General
ATTACH;FMTTYPE=image/png:https://www.cwc.edu/wp-content/uploads/2025/07/Womens-Soccer-Camp-2025.png
END:VEVENT
END:VCALENDAR