BEGIN:VCALENDAR
VERSION:2.0
PRODID:-//Central Wyoming College - ECPv6.15.20//NONSGML v1.0//EN
CALSCALE:GREGORIAN
METHOD:PUBLISH
X-ORIGINAL-URL:https://www.cwc.edu
X-WR-CALDESC:Events for Central Wyoming College
REFRESH-INTERVAL;VALUE=DURATION:PT1H
X-Robots-Tag:noindex
X-PUBLISHED-TTL:PT1H
BEGIN:VTIMEZONE
TZID:America/Denver
BEGIN:DAYLIGHT
TZOFFSETFROM:-0700
TZOFFSETTO:-0600
TZNAME:MDT
DTSTART:20230312T090000
END:DAYLIGHT
BEGIN:STANDARD
TZOFFSETFROM:-0600
TZOFFSETTO:-0700
TZNAME:MST
DTSTART:20231105T080000
END:STANDARD
BEGIN:DAYLIGHT
TZOFFSETFROM:-0700
TZOFFSETTO:-0600
TZNAME:MDT
DTSTART:20240310T090000
END:DAYLIGHT
BEGIN:STANDARD
TZOFFSETFROM:-0600
TZOFFSETTO:-0700
TZNAME:MST
DTSTART:20241103T080000
END:STANDARD
BEGIN:DAYLIGHT
TZOFFSETFROM:-0700
TZOFFSETTO:-0600
TZNAME:MDT
DTSTART:20250309T090000
END:DAYLIGHT
BEGIN:STANDARD
TZOFFSETFROM:-0600
TZOFFSETTO:-0700
TZNAME:MST
DTSTART:20251102T080000
END:STANDARD
BEGIN:DAYLIGHT
TZOFFSETFROM:-0700
TZOFFSETTO:-0600
TZNAME:MDT
DTSTART:20260308T090000
END:DAYLIGHT
BEGIN:STANDARD
TZOFFSETFROM:-0600
TZOFFSETTO:-0700
TZNAME:MST
DTSTART:20261101T080000
END:STANDARD
END:VTIMEZONE
BEGIN:VEVENT
DTSTART;VALUE=DATE:20251011
DTEND;VALUE=DATE:20251012
DTSTAMP:20260423T092610
CREATED:20251009T194716Z
LAST-MODIFIED:20251009T195800Z
UID:10001781-1760140800-1760227199@www.cwc.edu
SUMMARY:ICOW Annual Meeting
DESCRIPTION:Independent Cattlemen of Wyoming Annual Meeting\nWhen: Saturday\, Oct. 11; registration opens at 7:30 a.m. MDT; CEO to speak at 10:30 a.m.\n\nWhere: Central Wyoming College Rustler Ag & Equine Complex\, 1110 Day Dr.\, Riverton\, WY 82501\n\nDescription: The Independent Cattlemen of Wyoming (ICOW)\, an R-CALF USA affiliate\, will hold its annual meeting Saturday\, Oct. 11\, at Central Wyoming College.\nR-CALF USA CEO Bill Bullard will speak at 10:30 a.m. The program will also feature Wyoming Secretary of State Chuck Gray\, Wyoming state Sen. Cheri Steinmetz\, Wyoming Livestock Board Director and CEO Steve True\, and economist and educator Mary-Mark Haggard. A business meeting and a tour of the Rustler Ag & Equine Complex are also planned.\n\nRegistration opens at 7:30 a.m. Lunch will be served at 11:45 a.m. The cost is $40 for registration and $18.95 for lunch. Lodging is available at Wind River Hotel & Casino located at 180 Red Wolf Place in Riverton. Call (307) 856-3964 and ask for the ICOW rate.\n\nContact: Judy McCullough\, R-CALF USA region II director and ICOW secretary\, (307) 756-3429 or jmccullough@collinscom.net
URL:https://www.cwc.edu/event/icow-annual-meeting/
LOCATION:CWC Rustler AG & Equine Complex\, 1110 Day Dr\, Riverton\, WY\, 82501\, United States
CATEGORIES:Ag & Equine,General
ATTACH;FMTTYPE=image/jpeg:https://www.cwc.edu/wp-content/uploads/2025/10/Event-Feature-Image-13.jpg
END:VEVENT
BEGIN:VEVENT
DTSTART;VALUE=DATE:20250927
DTEND;VALUE=DATE:20250929
DTSTAMP:20260423T092610
CREATED:20250909T141914Z
LAST-MODIFIED:20250909T141914Z
UID:10001768-1758931200-1759103999@www.cwc.edu
SUMMARY:Matt Kelly Ranch Horse Clinic
DESCRIPTION:Join the CWC Ranch Horse Team for a special two-day clinic. The Matt Kelly Ranch Horse Clinic is a hands-on clinic that will focus on practical ranch horse skills\, horsemanship\, and techniques to help riders and horses work better together. Riders of all levels are welcome to participate and gain valuable instruction in a supportive learning environment. \nThe clinic will take place Sept 27-28\, 2025\, at the CWC Ag & Equine Complex. Saturday from 1 to 5 p.m. and Sunday 8 a.m. to noon. Stalls will be available at 875 Gasser Road. Registration is $300 per person with a $100 deposit. \nThis event is also a fundraiser for the CWC Ranch Horse Team\, so your participation directly supports student-athletes in their competitive and educational pursuits. \nReserve your spot today here or contact 307-851-3820 / joriskaggs@gmail.com for more information.
URL:https://www.cwc.edu/event/matt-kelly-ranch-horse-clinic/
LOCATION:CWC Rustler AG & Equine Complex\, 1110 Day Dr\, Riverton\, WY\, 82501\, United States
CATEGORIES:Ag & Equine,General
ATTACH;FMTTYPE=image/jpeg:https://www.cwc.edu/wp-content/uploads/2025/09/Mat-Kelly-Clinic.jpg
END:VEVENT
BEGIN:VEVENT
DTSTART;TZID=America/Denver:20250906T190000
DTEND;TZID=America/Denver:20250906T213000
DTSTAMP:20260423T092610
CREATED:20250825T165442Z
LAST-MODIFIED:20250827T165855Z
UID:10001756-1757185200-1757194200@www.cwc.edu
SUMMARY:An Evening with CWC Theatre
DESCRIPTION:Join us for a celebration as we bring the stage to life with beloved songs from past productions and an exciting sneak peak for the upcoming season’s plays. Relive the moments you loved\, get a taste of what’s to come\, and be the first to experience the magic of our new season! Tickets are $10 per person. \nPlease RSVP by September 4th. RSVP and purchase tickets here
URL:https://www.cwc.edu/event/an-evening-with-cwc-theatre/
LOCATION:CWC Robert A. Peck Arts Center\, 2660 Peck Avenue\, Riverton\, WY\, 82501\, United States
CATEGORIES:Ag & Equine,General
ATTACH;FMTTYPE=image/jpeg:https://www.cwc.edu/wp-content/uploads/2025/08/Event-Images-2.jpg
END:VEVENT
BEGIN:VEVENT
DTSTART;TZID=America/Denver:20250510T180000
DTEND;TZID=America/Denver:20250510T200000
DTSTAMP:20260423T092610
CREATED:20250423T155347Z
LAST-MODIFIED:20250423T160845Z
UID:10001726-1746900000-1746907200@www.cwc.edu
SUMMARY:Ranch Horse Team Year-End Banquet
DESCRIPTION:Join the Ranch Horse Team for their year-end banquet. \n$25/person \nDinner\, Live/Silent Auction and Games! \nTo purchase a ticket visit https://www.cwc.edu/tickets/\, scan QR code or contact Jori Skaggs at 307-851-3820\, Caitlan Thorne 307-855-2287 or any team member. \nView flyer
URL:https://www.cwc.edu/event/ranch-horse-team-year-end-banquet/
LOCATION:CWC Rustler AG & Equine Complex\, 1110 Day Dr\, Riverton\, WY\, 82501\, United States
CATEGORIES:Ag & Equine,General
ATTACH;FMTTYPE=image/jpeg:https://www.cwc.edu/wp-content/uploads/2025/04/ranch-horse-team.jpg
END:VEVENT
BEGIN:VEVENT
DTSTART;TZID=America/Denver:20250318T100000
DTEND;TZID=America/Denver:20250318T130000
DTSTAMP:20260423T092610
CREATED:20250311T175410Z
LAST-MODIFIED:20250311T175410Z
UID:10001719-1742292000-1742302800@www.cwc.edu
SUMMARY:National AG Day
DESCRIPTION:Enjoy learning from and interacting with local agriculturalists as they share their roles in the agriculture & equine industries.  All ages welcome! Be ready to learn.  Form more information contact Amanda Winchester at awinches@cwc.edu
URL:https://www.cwc.edu/event/national-ag-day/
LOCATION:CWC Rustler Gymnasium\, 2660 Peck Ave\, Riverton\, 82501\, United States
CATEGORIES:Ag & Equine,General
ATTACH;FMTTYPE=image/png:https://www.cwc.edu/wp-content/uploads/2025/03/Colorful-Watercolor-Illustrative-Fall-Festival-Flyer-600-x-338-px.png
END:VEVENT
BEGIN:VEVENT
DTSTART;VALUE=DATE:20250315
DTEND;VALUE=DATE:20250316
DTSTAMP:20260423T092610
CREATED:20241204T194048Z
LAST-MODIFIED:20241204T194048Z
UID:10001677-1741996800-1742083199@www.cwc.edu
SUMMARY:CWC Jackpots - Finals
DESCRIPTION:The LOTRA Series will now be Central Wyoming College Jackpots. \nEnter @ 9 a.m.\nExhibitions @ 9:30 a.m.\nRun @ 11 a.m. \nOrder of Events: Barrel Race\, Pole Bending\, Goat Tying\, Breakaway Roping\, Mens’ Breakaway \nFees: Open: $50 | Youth 9-15: $30 | Peewee 8 and under: $20 \n$40 Nomination Fee for Year End Prizes (Must attend 3 events) \nENTER ON SITE\, CASH ONLY \nContact: Aften Fegler\, 970-381-7967 \n  \nMARK YOUR CALENDARS \nMarch 15\, 2025 – FINALS
URL:https://www.cwc.edu/event/cwc-jackpots-20250315/
LOCATION:CWC Rustler AG & Equine Complex\, 1110 Day Dr\, Riverton\, WY\, 82501\, United States
CATEGORIES:Ag & Equine,General
ATTACH;FMTTYPE=image/png:https://www.cwc.edu/wp-content/uploads/2024/12/CWC-Jackpots-web-banner.png
END:VEVENT
BEGIN:VEVENT
DTSTART;TZID=America/Denver:20250222T180000
DTEND;TZID=America/Denver:20250222T200000
DTSTAMP:20260423T092610
CREATED:20250108T235406Z
LAST-MODIFIED:20250115T153607Z
UID:10001695-1740247200-1740254400@www.cwc.edu
SUMMARY:Boots and Buckles 2025
DESCRIPTION:Annual CWC Livestock Judging “Boots and Buckles” fundraiser \nTickets: $30 per person\nPurchase online here: www.cwc.edu/tickets \nContact: Amanda Winchester- awinches@cwc.edu or 307-855-2258. \nEvent Flyer |  Sponsorship Flyer \n  \n    \n		\n	No Events Found
URL:https://www.cwc.edu/event/boots-and-buckles-2025/
LOCATION:CWC Rustler Gymnasium\, 2660 Peck Ave\, Riverton\, 82501\, United States
CATEGORIES:Ag & Equine,Athletics,General
ATTACH;FMTTYPE=image/png:https://www.cwc.edu/wp-content/uploads/2025/01/Boots-and-Buckles-2025-web-banner-600-x-338-px.png
END:VEVENT
BEGIN:VEVENT
DTSTART;VALUE=DATE:20250222
DTEND;VALUE=DATE:20250223
DTSTAMP:20260423T092610
CREATED:20241204T193920Z
LAST-MODIFIED:20241209T144332Z
UID:10001676-1740182400-1740268799@www.cwc.edu
SUMMARY:CWC Jackpots
DESCRIPTION:The LOTRA Series will now be Central Wyoming College Jackpots.\n\nEnter @ 9 a.m.\nExhibitions @ 9:30 a.m.\nRun @ 11 a.m.\n\nOrder of Events: Barrel Race\, Pole Bending\, Goat Tying\, Breakaway Roping\, Mens’ Breakaway\n\nFees: Open: $50 | Youth 9-15: $30 | Peewee 8 and under: $20\n\n$40 Nomination Fee for Year End Prizes (Must attend 3 events)\n\nENTER ON SITE\, CASH ONLY\n\nContact: Aften Fegler\, 970-381-7967\n\n \n\nMARK YOUR CALENDARS\n\nFebruary 22\, 2025\nMarch 15\, 2025 – FINALS
URL:https://www.cwc.edu/event/cwc-jackpots-20240222/
LOCATION:CWC Rustler AG & Equine Complex\, 1110 Day Dr\, Riverton\, WY\, 82501\, United States
CATEGORIES:Ag & Equine,General
ATTACH;FMTTYPE=image/png:https://www.cwc.edu/wp-content/uploads/2024/12/CWC-Jackpots-web-banner.png
END:VEVENT
BEGIN:VEVENT
DTSTART;TZID=America/Denver:20250215T173000
DTEND;TZID=America/Denver:20250215T203000
DTSTAMP:20260423T092610
CREATED:20241209T175525Z
LAST-MODIFIED:20250130T153118Z
UID:10001681-1739640600-1739651400@www.cwc.edu
SUMMARY:Rodeo & Roses 2025
DESCRIPTION:Join us for our annual Rodeo & Roses banquet!\n\n5:30 p.m. Social\n6:30 p.m. Prime Rib Dinner\nCentral Wyoming College Gymnasium\n$50 per ticket\n\nLive & Silent Auction • M&M Auction Services is donating an African Hunt\n\nFollow CWC Rodeo on Instagram or Facebook for updates on Auction Items\n\nFor more information about tickets\, sponsorships or reservations\, please contact Cally Schrock: callyschrock@gmail.com or (307) 850-3177\n\nReservation deadline is Friday\, January 31\, 2025\n\n \n\nSPONSORSHIPS\n\nBronze Sponsor – $200\n• 2 tickets to the Rodeo & Roses banquet\n• Emcee recognition and program listing\n• Advertising in all event promotion materials\n\nSilver Sponsor – $300\n• 4 tickets to the Rodeo & Roses banquet\n• Emcee recognition and program listing\n• Advertising in all event promotion materials\n\nGold Sponsor – $500\n• Table sponsorship which includes 8 tickets to the Rodeo & Roses banquet\n• Emcee recognition and program listing\n• Advertising in all event promotion materials\n\n 
URL:https://www.cwc.edu/event/rodeo-roses-2025/
LOCATION:CWC Rustler Gymnasium\, 2660 Peck Ave\, Riverton\, 82501\, United States
CATEGORIES:Ag & Equine,General
ATTACH;FMTTYPE=image/png:https://www.cwc.edu/wp-content/uploads/2024/12/rodeo_roses-web-banner-600x338px.png
END:VEVENT
BEGIN:VEVENT
DTSTART;VALUE=DATE:20250201
DTEND;VALUE=DATE:20250203
DTSTAMP:20260423T092610
CREATED:20250123T213603Z
LAST-MODIFIED:20250123T213603Z
UID:10001704-1738368000-1738540799@www.cwc.edu
SUMMARY:CSSHA Winter Showdown
DESCRIPTION:RANCH BREAKAWAY ROPING – view flyer\n\nTo enter the jackpot you must attend at least one clinic day! Buckles awarded to open & youth at each weekend!\n\nSaturday\, February 1\n\n 	Open Riding @ 9am-10am\n 	Clinic @ 10am-4pm\n\nSunday\, February 2\n\n 	Open Riding @ 9am-10am\n 	Clinic @ 10am-12pm\n 	Jackpot @ 1pm\n\nCost:\n\n 	$40/day or $55 for two days\n 	$20 for the jackpot\n\nFor questions or more info\, contact Pam Rivers\, (307) 851-9452\, cowboyssha@gmail.com
URL:https://www.cwc.edu/event/cssha-winter-showdown/
LOCATION:CWC Rustler AG & Equine Complex\, 1110 Day Dr\, Riverton\, WY\, 82501\, United States
CATEGORIES:Ag & Equine,General
ATTACH;FMTTYPE=image/jpeg:https://www.cwc.edu/wp-content/uploads/2025/01/ranch-breakaway-roping-600x338px.jpg
END:VEVENT
BEGIN:VEVENT
DTSTART;VALUE=DATE:20241214
DTEND;VALUE=DATE:20241215
DTSTAMP:20260423T092610
CREATED:20241204T190727Z
LAST-MODIFIED:20241209T144237Z
UID:10001674-1734134400-1734220799@www.cwc.edu
SUMMARY:CWC Jackpots
DESCRIPTION:The LOTRA Series will now be Central Wyoming College Jackpots.\n\nEnter @ 9 a.m.\nExhibitions @ 9:30 a.m.\nRun @ 11 a.m.\n\nOrder of Events: Barrel Race\, Pole Bending\, Goat Tying\, Breakaway Roping\, Mens’ Breakaway\n\nFees: Open: $50 | Youth 9-15: $30 | Peewee 8 and under: $20\n\n$40 Nomination Fee for Year End Prizes (Must attend 3 events)\n\nENTER ON SITE\, CASH ONLY\n\nContact: Aften Fegler\, 970-381-7967\n\n \n\nMARK YOUR CALENDARS\n\nDecember 14\, 2024\nJanuary 18\, 2025\nFebruary 22\, 2025\nMarch 15\, 2025 – FINALS
URL:https://www.cwc.edu/event/cwc-jackpots-20241214/
LOCATION:CWC Rustler AG & Equine Complex\, 1110 Day Dr\, Riverton\, WY\, 82501\, United States
CATEGORIES:Ag & Equine,General
ATTACH;FMTTYPE=image/png:https://www.cwc.edu/wp-content/uploads/2024/12/CWC-Jackpots-web-banner.png
END:VEVENT
END:VCALENDAR