BEGIN:VCALENDAR
VERSION:2.0
PRODID:-//Central Wyoming College - ECPv6.15.20//NONSGML v1.0//EN
CALSCALE:GREGORIAN
METHOD:PUBLISH
X-ORIGINAL-URL:https://www.cwc.edu
X-WR-CALDESC:Events for Central Wyoming College
REFRESH-INTERVAL;VALUE=DURATION:PT1H
X-Robots-Tag:noindex
X-PUBLISHED-TTL:PT1H
BEGIN:VTIMEZONE
TZID:America/Denver
BEGIN:DAYLIGHT
TZOFFSETFROM:-0700
TZOFFSETTO:-0600
TZNAME:MDT
DTSTART:20230312T090000
END:DAYLIGHT
BEGIN:STANDARD
TZOFFSETFROM:-0600
TZOFFSETTO:-0700
TZNAME:MST
DTSTART:20231105T080000
END:STANDARD
BEGIN:DAYLIGHT
TZOFFSETFROM:-0700
TZOFFSETTO:-0600
TZNAME:MDT
DTSTART:20240310T090000
END:DAYLIGHT
BEGIN:STANDARD
TZOFFSETFROM:-0600
TZOFFSETTO:-0700
TZNAME:MST
DTSTART:20241103T080000
END:STANDARD
BEGIN:DAYLIGHT
TZOFFSETFROM:-0700
TZOFFSETTO:-0600
TZNAME:MDT
DTSTART:20250309T090000
END:DAYLIGHT
BEGIN:STANDARD
TZOFFSETFROM:-0600
TZOFFSETTO:-0700
TZNAME:MST
DTSTART:20251102T080000
END:STANDARD
END:VTIMEZONE
BEGIN:VEVENT
DTSTART;VALUE=DATE:20241021
DTEND;VALUE=DATE:20241212
DTSTAMP:20260425T041940
CREATED:20240924T205355Z
LAST-MODIFIED:20241030T214830Z
UID:10000522-1729468800-1733961599@www.cwc.edu
SUMMARY:4th Annual Fremont County Fine Art Exhibition
DESCRIPTION:Exhibition dates: Monday\, October 21 – Wednesday\, December 11\, 2024\n30 Artists and 176 pieces of artwork. All artwork for sale. \nMeet the Artists Reception and Quick Finish Competition: Saturday\, November 9\, 2024\nCash bar and horse d’oeuvres 5-7:30 p.m. \nDeadline to sign up for Quick Finish Competition: Tuesday\, November 5\, 2024. Artwork will be Silent Auction. \nFor more details\, visit the Art Center Gallery’s page.
URL:https://www.cwc.edu/event/4th-annual-fremont-county-fine-art-exhibition/
LOCATION:CWC Robert A. Peck Arts Center\, 2660 Peck Avenue\, Riverton\, WY\, 82501\, United States
CATEGORIES:Arts Center
ATTACH;FMTTYPE=image/png:https://www.cwc.edu/wp-content/uploads/2024/09/Fremont-County-Art-Exhibit-2024-600x338px-1.png
END:VEVENT
BEGIN:VEVENT
DTSTART;TZID=America/Denver:20241110T140000
DTEND;TZID=America/Denver:20241110T150000
DTSTAMP:20260425T041940
CREATED:20241209T141743Z
LAST-MODIFIED:20241209T141743Z
UID:10000529-1731247200-1731250800@www.cwc.edu
SUMMARY:Veterans Day Concert 2024
DESCRIPTION:With great pride and reverence\, Central Wyoming College is thrilled to announce our 2nd Annual Veterans Day Concert\, dedicated to honoring the valor\, sacrifice\, and unwavering dedication of our veterans. \nSunday\, November 10\, 2 p.m.\nMonday\, November 11\, 7 p.m.
URL:https://www.cwc.edu/event/veterans-day-concert-2024-2/
LOCATION:CWC Robert A. Peck Arts Center\, 2660 Peck Avenue\, Riverton\, WY\, 82501\, United States
CATEGORIES:Arts Center,General
ATTACH;FMTTYPE=image/png:https://www.cwc.edu/wp-content/uploads/2024/10/Veteransday2024.png
END:VEVENT
END:VCALENDAR