BEGIN:VCALENDAR
VERSION:2.0
PRODID:-//Central Wyoming College - ECPv6.15.20//NONSGML v1.0//EN
CALSCALE:GREGORIAN
METHOD:PUBLISH
X-WR-CALNAME:Central Wyoming College
X-ORIGINAL-URL:https://www.cwc.edu
X-WR-CALDESC:Events for Central Wyoming College
REFRESH-INTERVAL;VALUE=DURATION:PT1H
X-Robots-Tag:noindex
X-PUBLISHED-TTL:PT1H
BEGIN:VTIMEZONE
TZID:America/Denver
BEGIN:DAYLIGHT
TZOFFSETFROM:-0700
TZOFFSETTO:-0600
TZNAME:MDT
DTSTART:20230312T090000
END:DAYLIGHT
BEGIN:STANDARD
TZOFFSETFROM:-0600
TZOFFSETTO:-0700
TZNAME:MST
DTSTART:20231105T080000
END:STANDARD
BEGIN:DAYLIGHT
TZOFFSETFROM:-0700
TZOFFSETTO:-0600
TZNAME:MDT
DTSTART:20240310T090000
END:DAYLIGHT
BEGIN:STANDARD
TZOFFSETFROM:-0600
TZOFFSETTO:-0700
TZNAME:MST
DTSTART:20241103T080000
END:STANDARD
BEGIN:DAYLIGHT
TZOFFSETFROM:-0700
TZOFFSETTO:-0600
TZNAME:MDT
DTSTART:20250309T090000
END:DAYLIGHT
BEGIN:STANDARD
TZOFFSETFROM:-0600
TZOFFSETTO:-0700
TZNAME:MST
DTSTART:20251102T080000
END:STANDARD
END:VTIMEZONE
BEGIN:VEVENT
DTSTART;TZID=America/Denver:20240817T130000
DTEND;TZID=America/Denver:20240817T160000
DTSTAMP:20260420T214352
CREATED:20240508T221818Z
LAST-MODIFIED:20240508T224237Z
UID:10000479-1723899600-1723910400@www.cwc.edu
SUMMARY:2024 CWC Soccer Camp - Junior
DESCRIPTION:JUNIOR CAMP $50 | 7-13 years old \nRegistration Form due date: Thursday\, August 1\, 2024 \n 2024 CWC Soccer Registration Form \nCamp Date: Saturday\, August 17\, 2024\nTime: 1-4 p.m. \n 
URL:https://www.cwc.edu/event/2024-cwc-soccer-camp-junior/
LOCATION:CWC Riverton\, 2660 Peck Ave\, Riverton\, WY\, 82501\, United States
CATEGORIES:Athletics,General
ATTACH;FMTTYPE=image/png:https://www.cwc.edu/wp-content/uploads/2024/05/Soccer-camp-600x338px-1.png
END:VEVENT
BEGIN:VEVENT
DTSTART;TZID=America/Denver:20240817T160000
DTEND;TZID=America/Denver:20240817T190000
DTSTAMP:20260420T214352
CREATED:20240508T222102Z
LAST-MODIFIED:20240508T224252Z
UID:10000480-1723910400-1723921200@www.cwc.edu
SUMMARY:2024 CWC Soccer Camp - Advanced
DESCRIPTION:ADVANCED CAMP $75 | 14 years old and up \nRegistration Form due date: Thursday\, August 1\, 2024 \n 2024 CWC Soccer Registration Form \nCamp Date: Saturday\, August 17\, 2024\nTime: 4-7 p.m. \n 
URL:https://www.cwc.edu/event/2024-cwc-soccer-camp-advanced/
LOCATION:CWC Riverton\, 2660 Peck Ave\, Riverton\, WY\, 82501\, United States
CATEGORIES:Athletics,General
ATTACH;FMTTYPE=image/png:https://www.cwc.edu/wp-content/uploads/2024/05/Soccer-camp-600x338px-2.png
END:VEVENT
END:VCALENDAR